BEGIN:VCALENDAR
VERSION:2.0
PRODID:-//Em Gee Em - ECPv6.15.14//NONSGML v1.0//EN
CALSCALE:GREGORIAN
METHOD:PUBLISH
X-ORIGINAL-URL:https://emgeeem.com
X-WR-CALDESC:Events for Em Gee Em
REFRESH-INTERVAL;VALUE=DURATION:PT1H
X-Robots-Tag:noindex
X-PUBLISHED-TTL:PT1H
BEGIN:VTIMEZONE
TZID:America/Chicago
BEGIN:DAYLIGHT
TZOFFSETFROM:-0600
TZOFFSETTO:-0500
TZNAME:CDT
DTSTART:20240310T080000
END:DAYLIGHT
BEGIN:STANDARD
TZOFFSETFROM:-0500
TZOFFSETTO:-0600
TZNAME:CST
DTSTART:20241103T070000
END:STANDARD
BEGIN:DAYLIGHT
TZOFFSETFROM:-0600
TZOFFSETTO:-0500
TZNAME:CDT
DTSTART:20250309T080000
END:DAYLIGHT
BEGIN:STANDARD
TZOFFSETFROM:-0500
TZOFFSETTO:-0600
TZNAME:CST
DTSTART:20251102T070000
END:STANDARD
BEGIN:DAYLIGHT
TZOFFSETFROM:-0600
TZOFFSETTO:-0500
TZNAME:CDT
DTSTART:20260308T080000
END:DAYLIGHT
BEGIN:STANDARD
TZOFFSETFROM:-0500
TZOFFSETTO:-0600
TZNAME:CST
DTSTART:20261101T070000
END:STANDARD
END:VTIMEZONE
BEGIN:VEVENT
DTSTART;TZID=America/Chicago:20250329T080000
DTEND;TZID=America/Chicago:20250329T103000
DTSTAMP:20260423T055036
CREATED:20250308T154501Z
LAST-MODIFIED:20250419T201341Z
UID:109-1743235200-1743244200@emgeeem.com
SUMMARY:Beaver Trail 5K
DESCRIPTION:Plan to make the trip to Lagoon Park’s Pete Peterson Lodge in Montgomery\, AL to be a part of the 5th Beaver Trail 5K.  The Beaver Trail 5K will take runners on the beautiful Lagoon Park Trails\, Montgomery’s outdoor adventure area!  After the race\, runners will enjoy complimentary post-race refreshments and the awards ceremony.  All the proceeds from this event are used for the maintenance of and upgrades to the Lagoon Park Trails\, one of Montgomery’s hidden gems! \nRegistration Fees: $25 till 1/31//25\, $30 till 3/14/25\, $35 till 3/28/24\, $40 Day of Race \nDiscounts for First Responders and Military:  First responders use code FR5 and military use code MIL5 to receive a $5 discount off the registration fee. \nAwards (M/F): Overall (1);  Masters (1);  Age Groups 5-9\, 10-15\, 16-19\, 20-24\, 25-29\, 30-34\, 35-39\, 40-44\, 45-49\, 50-54\, 56-59\, 60-64\, 65-69\, 70+ (3) \nPacket Pick-up:  There will be packet pick-up/late registration at the Pete Peterson Lodge on Friday\, March 28\, from 3 till 6 PM. \nSHIRT NOTICE:  To be guaranteed a Beaver Trail Run shirt\, you must pre-register online or with mail-in registration form by 3/23/25.  Runners who sign up at packet pick-up or on race day are not guaranteed a shirt.  Any leftover shirts available at packet pick-up/late registration will be offered on a first come\, first served basis. \nCANCELLATION STATEMENT: This event will occur rain or shine.  The Beaver Trail 5K  reserves the right to cancel in extreme circumstances.  In the event of cancellation\, there will be no refunds.
URL:https://emgeeem.com/event/beaver-trail-5k/
LOCATION:Lagoon Park\, 2635 Gunter Park Dr E\, MONTGOMERY\, AL\, 36109\, United States
END:VEVENT
END:VCALENDAR