BEGIN:VCALENDAR
VERSION:2.0
PRODID:-//Em Gee Em - ECPv6.15.14//NONSGML v1.0//EN
CALSCALE:GREGORIAN
METHOD:PUBLISH
X-WR-CALNAME:Em Gee Em
X-ORIGINAL-URL:https://emgeeem.com
X-WR-CALDESC:Events for Em Gee Em
REFRESH-INTERVAL;VALUE=DURATION:PT1H
X-Robots-Tag:noindex
X-PUBLISHED-TTL:PT1H
BEGIN:VTIMEZONE
TZID:America/Chicago
BEGIN:DAYLIGHT
TZOFFSETFROM:-0600
TZOFFSETTO:-0500
TZNAME:CDT
DTSTART:20240310T080000
END:DAYLIGHT
BEGIN:STANDARD
TZOFFSETFROM:-0500
TZOFFSETTO:-0600
TZNAME:CST
DTSTART:20241103T070000
END:STANDARD
BEGIN:DAYLIGHT
TZOFFSETFROM:-0600
TZOFFSETTO:-0500
TZNAME:CDT
DTSTART:20250309T080000
END:DAYLIGHT
BEGIN:STANDARD
TZOFFSETFROM:-0500
TZOFFSETTO:-0600
TZNAME:CST
DTSTART:20251102T070000
END:STANDARD
BEGIN:DAYLIGHT
TZOFFSETFROM:-0600
TZOFFSETTO:-0500
TZNAME:CDT
DTSTART:20260308T080000
END:DAYLIGHT
BEGIN:STANDARD
TZOFFSETFROM:-0500
TZOFFSETTO:-0600
TZNAME:CST
DTSTART:20261101T070000
END:STANDARD
END:VTIMEZONE
BEGIN:VEVENT
DTSTART;TZID=America/Chicago:20250626T210000
DTEND;TZID=America/Chicago:20250626T210000
DTSTAMP:20260422T164846
CREATED:20250614T001131Z
LAST-MODIFIED:20250614T001131Z
UID:2375-1750971600-1750971600@emgeeem.com
SUMMARY:Retro Video Game Tournament
DESCRIPTION:
URL:https://emgeeem.com/event/retro-video-game-tournament-2/
LOCATION:Hilltop Public House\, 3 North Goldthwaite Street\, MONTGOMERY\, AL\, 36104\, United States
END:VEVENT
BEGIN:VEVENT
DTSTART;TZID=America/Chicago:20250627T183000
DTEND;TZID=America/Chicago:20250627T203000
DTSTAMP:20260422T164846
CREATED:20250613T210306Z
LAST-MODIFIED:20250613T213038Z
UID:2219-1751049000-1751056200@emgeeem.com
SUMMARY:A Night of the Arts
DESCRIPTION:Get ready for Night of the Arts—a vibrant evening filled with rhythm\, movement\, and creativity! \n  \nEnjoy an exciting lineup of live music and dance\, from the smooth sounds of jazz to the fiery flair of tango and the high-energy beats of hip hop. There will also be free refreshments. \n  \nIt’s a night that celebrates the arts in every form—you won’t want to miss it! \n 
URL:https://emgeeem.com/event/a-night-of-the-arts/
LOCATION:The Learning Arts Center at The Armory\, 1018 Madison Avenue\, MONTGOMERY\, AL\, 36107\, United States
ORGANIZER;CN="The Learning Arts Center at The Armory":MAILTO:joebirdwell@gmail.com
END:VEVENT
BEGIN:VEVENT
DTSTART;TZID=America/Chicago:20250627T183500
DTEND;TZID=America/Chicago:20250627T213500
DTSTAMP:20260422T164846
CREATED:20250613T210600Z
LAST-MODIFIED:20250613T213354Z
UID:2224-1751049300-1751060100@emgeeem.com
SUMMARY:Korean Heritage Night @ The Montgomery Biscuits
DESCRIPTION:On Friday\, July 16th\, the Montgomery Biscuits will transform into the Montgomery Kimchi\, celebrating Korean Heritage Night pres. by Pulmuone! \nWhy Kimchi? We believe food is the gateway into culture. Just as Biscuits are a mainstay on a southern table\, Kimchi is a staple in Korean cuisine. \nWe’ve also partnered with A-KEEP\, the Alabama-Korean Education and Economic Partnership\, to incorporate elements of Korean culture into all elements of this game. A-KEEP works with members of the community to enable students\, professionals\, organizations and corporations of Alabama and Korea to take full advantage of the opportunities of growing economic ties between the two regions\, which are accomplished through A-KEEP’s leadership programs and facilitation efforts. \nThe Biscuits team will wear specialty on-field jerseys that will be auctioned off during the game\, with all proceeds benefitting A-KEEP.
URL:https://emgeeem.com/event/korean-heritage-night/
LOCATION:Montgomery Riverwalk Stadium\, 200 Coosa St\, MONTGOMERY\, AL\, 36104\, United States
END:VEVENT
BEGIN:VEVENT
DTSTART;TZID=America/Chicago:20250627T190000
DTEND;TZID=America/Chicago:20250627T190000
DTSTAMP:20260422T164846
CREATED:20250614T001131Z
LAST-MODIFIED:20250614T001131Z
UID:2376-1751050800-1751050800@emgeeem.com
SUMMARY:Karaoke
DESCRIPTION:
URL:https://emgeeem.com/event/karaoke-2/
LOCATION:Hilltop Public House\, 3 North Goldthwaite Street\, MONTGOMERY\, AL\, 36104\, United States
END:VEVENT
BEGIN:VEVENT
DTSTART;TZID=America/Chicago:20250628T060000
DTEND;TZID=America/Chicago:20250628T060000
DTSTAMP:20260422T164846
CREATED:20250614T001346Z
LAST-MODIFIED:20250614T001346Z
UID:2424-1751090400-1751090400@emgeeem.com
SUMMARY:Sunrise Social Club
DESCRIPTION:
URL:https://emgeeem.com/event/sunrise-social-club-3/
LOCATION:Hilltop Public House\, 3 North Goldthwaite Street\, MONTGOMERY\, AL\, 36104\, United States
END:VEVENT
BEGIN:VEVENT
DTSTART;TZID=America/Chicago:20250628T070000
DTEND;TZID=America/Chicago:20250628T070000
DTSTAMP:20260422T164846
CREATED:20250614T001346Z
LAST-MODIFIED:20250614T001346Z
UID:2422-1751094000-1751094000@emgeeem.com
SUMMARY:Prattville Farmers Market
DESCRIPTION:
URL:https://emgeeem.com/event/prattville-farmers-market-3/
LOCATION:AL
END:VEVENT
BEGIN:VEVENT
DTSTART;TZID=America/Chicago:20250628T070000
DTEND;TZID=America/Chicago:20250628T070000
DTSTAMP:20260422T164846
CREATED:20250614T001346Z
LAST-MODIFIED:20250614T001346Z
UID:2423-1751094000-1751094000@emgeeem.com
SUMMARY:Eastchase Farmers Market
DESCRIPTION:
URL:https://emgeeem.com/event/eastchase-farmers-market-3/
LOCATION:AL
END:VEVENT
BEGIN:VEVENT
DTSTART;TZID=America/Chicago:20250628T103000
DTEND;TZID=America/Chicago:20250628T113000
DTSTAMP:20260422T164846
CREATED:20250613T205641Z
LAST-MODIFIED:20250613T212633Z
UID:2185-1751106600-1751110200@emgeeem.com
SUMMARY:Symphonic Story Time: The Noisy Paint Box
DESCRIPTION:Join us for a colorful morning of music and imagination! On Saturday\, June 28 at 10:30am\, the Montgomery Symphony Orchestra presents Symphonic Storytime at the Juliette Hampton Morgan Memorial Library in downtown Montgomery. We’ll read A Noisy Paint Box: The Colors and Sounds of Kandinsky’s Abstract Art—a vibrant tale that explores how the painter experienced sound and color in extraordinary ways. The story will be paired with a live musical demonstration by MSO musicians\, bringing Kandinsky’s world to life through sound. This free event is perfect for young children and their caregivers—come explore the art of listening\, seeing\, and imagining!
URL:https://emgeeem.com/event/symphonic-story-time-the-noisy-paint-box/
LOCATION:Juliette Hampton Morgan Library\, 245 High St\, MONTGOMERY\, AL\, 36104\, United States
END:VEVENT
BEGIN:VEVENT
DTSTART;TZID=America/Chicago:20250628T103000
DTEND;TZID=America/Chicago:20250628T113000
DTSTAMP:20260422T164846
CREATED:20250613T210128Z
LAST-MODIFIED:20250613T212133Z
UID:2208-1751106600-1751110200@emgeeem.com
SUMMARY:Full S.T.E.A.M. Ahead
DESCRIPTION:“Full S.T.E.A.M. Ahead” for kids ages 4-12. Come and have fun with science\, technology\, engineering\, art and mathematics! Enjoy a hands on learning experience that will encourage creativity\, problem-solving\, and curiosity about the world around you.
URL:https://emgeeem.com/event/full-s-t-e-a-m-ahead/
LOCATION:EL Lowder Regional Branch Library\, 2590 Bell Road\, MONTGOMERY\, AL\, 36117\, United States
END:VEVENT
BEGIN:VEVENT
DTSTART;TZID=America/Chicago:20250628T110000
DTEND;TZID=America/Chicago:20250628T140000
DTSTAMP:20260422T164846
CREATED:20250613T205641Z
LAST-MODIFIED:20250613T230009Z
UID:2187-1751108400-1751119200@emgeeem.com
SUMMARY:Food and Grooves Pet Day in the Park
DESCRIPTION:The City of Montgomery Parks and Recreation is excited to announce the upcoming Food and Grooves Pet Day in the Park\, taking place at Rotary Dog Park in downtown Montgomery on Saturday\, June 28\, from 11 a.m. to 2 p.m. This free event invites all friendly leashed pets and their owners to enjoy a day filled with fun\, food\, and entertainment. \nAttendees can look forward to a variety of food trucks and vendors offering delicious options to satisfy every palate. Live entertainment will keep the atmosphere lively\, making it a perfect outing for families and pet lovers alike. The event is designed to be extremely pet-friendly\, ensuring that both pets and their owners have a memorable experience. \nParticipants are encouraged to bring their own coolers\, lawn chairs\, and sunscreen to make the most of the day. Whether you want to relax in the shade or enjoy the vibrant atmosphere\, Food and Grooves Pet Day in the Park promises to be a delightful way to spend a Saturday. \nDon’t miss out on this fantastic opportunity to connect with fellow pet owners and enjoy the community spirit of Montgomery. Mark your calendars and prepare for a day of fun\, food\, and furry friends! \n 
URL:https://emgeeem.com/event/food-and-grooves-pet-day-in-the-park/
LOCATION:Rotary Dog Park\, 98 Coosa St\, Montgomery\, 36104
END:VEVENT
BEGIN:VEVENT
DTSTART;TZID=America/Chicago:20250628T110000
DTEND;TZID=America/Chicago:20250628T160000
DTSTAMP:20260422T164846
CREATED:20250626T200026Z
LAST-MODIFIED:20250626T200026Z
UID:2456-1751108400-1751126400@emgeeem.com
SUMMARY:Hyperbole Books Pop-Up @ SAMC
DESCRIPTION:Hyperbole Books will be popping up from 11 – 4 at Southern Art and Makers Collective.
URL:https://emgeeem.com/event/hyperbole-books-pop-up-samc/
LOCATION:Southern Art & Makers Collective\, 1228 Madison Ave\, MONTGOMERY\, AL\, 36107\, United States
ATTACH;FMTTYPE=image/jpeg:https://emgeeem.com/wp-content/uploads/2025/06/IMG_4612-scaled.jpeg
END:VEVENT
BEGIN:VEVENT
DTSTART;TZID=America/Chicago:20250628T140000
DTEND;TZID=America/Chicago:20250628T180000
DTSTAMP:20260422T164846
CREATED:20250613T210615Z
LAST-MODIFIED:20250613T230626Z
UID:2230-1751119200-1751133600@emgeeem.com
SUMMARY:Summer in the City
DESCRIPTION:Get ready for an unforgettable afternoon of fun\, music\, and community vibes at the Summer in the City Block Party! \nEnjoy: \nA live DJ spinning your favorite tunes\nFace painting & temporary tattoos\nInflatable slides & bouncy houses\nHip-hop & breakdancing performances by local dance crews\nBalloon artists\nFood trucks & local vendors\nYard games and more!\nThrow on your best retro gear\, bring the family\, and don’t forget your giant boombox spirit—we’re turning up the fun at Vaughn Road Park! \n 
URL:https://emgeeem.com/event/summer-in-the-city/
LOCATION:Vaughn Road Park\, 2858 Fieldcrest Dr\, MONTGOMERY\, AL\, 36106\, United States
END:VEVENT
BEGIN:VEVENT
DTSTART;TZID=America/Chicago:20250630T173000
DTEND;TZID=America/Chicago:20250630T173000
DTSTAMP:20260422T164846
CREATED:20250614T001316Z
LAST-MODIFIED:20250614T001316Z
UID:2412-1751304600-1751304600@emgeeem.com
SUMMARY:Chess Club for K-14
DESCRIPTION:
URL:https://emgeeem.com/event/chess-club-for-k-14/
LOCATION:AL
END:VEVENT
BEGIN:VEVENT
DTSTART;TZID=America/Chicago:20250630T173000
DTEND;TZID=America/Chicago:20250630T173000
DTSTAMP:20260422T164846
CREATED:20250614T001316Z
LAST-MODIFIED:20250614T001316Z
UID:2415-1751304600-1751304600@emgeeem.com
SUMMARY:Yoga
DESCRIPTION:
URL:https://emgeeem.com/event/yoga-3/
LOCATION:The Sanctuary\, 432 Goldthwaite St\, MONTGOMERY\, AL\, 36104\, United States
END:VEVENT
BEGIN:VEVENT
DTSTART;TZID=America/Chicago:20250630T173000
DTEND;TZID=America/Chicago:20250630T210000
DTSTAMP:20260422T164846
CREATED:20250614T001146Z
LAST-MODIFIED:20250614T001146Z
UID:2382-1751304600-1751317200@emgeeem.com
SUMMARY:Table Top Night
DESCRIPTION:
URL:https://emgeeem.com/event/table-top-night-3/
LOCATION:Hilltop Public House\, 3 North Goldthwaite Street\, MONTGOMERY\, AL\, 36104\, United States
END:VEVENT
BEGIN:VEVENT
DTSTART;TZID=America/Chicago:20250630T180000
DTEND;TZID=America/Chicago:20250630T180000
DTSTAMP:20260422T164846
CREATED:20250614T001301Z
LAST-MODIFIED:20250614T001301Z
UID:2409-1751306400-1751306400@emgeeem.com
SUMMARY:Hilltop Happy Hour
DESCRIPTION:
URL:https://emgeeem.com/event/hilltop-happy-hour-3/
LOCATION:Hilltop Public House\, 3 North Goldthwaite Street\, MONTGOMERY\, AL\, 36104\, United States
END:VEVENT
BEGIN:VEVENT
DTSTART;TZID=America/Chicago:20250701T183000
DTEND;TZID=America/Chicago:20250701T183000
DTSTAMP:20260422T164846
CREATED:20250614T001146Z
LAST-MODIFIED:20250614T001146Z
UID:2383-1751394600-1751394600@emgeeem.com
SUMMARY:Trivia Night
DESCRIPTION:
URL:https://emgeeem.com/event/trivia-night-3/
LOCATION:Hilltop Public House\, 3 North Goldthwaite Street\, MONTGOMERY\, AL\, 36104\, United States
END:VEVENT
BEGIN:VEVENT
DTSTART;TZID=America/Chicago:20250702T000000
DTEND;TZID=America/Chicago:20250702T000000
DTSTAMP:20260422T164846
CREATED:20250613T205739Z
LAST-MODIFIED:20250613T231003Z
UID:2202-1751414400-1751414400@emgeeem.com
SUMMARY:Lunch & Learn: Propagating & Care for Succulents
DESCRIPTION:Come learn how to care for your succulents for year round success and how to propagate and share them with others.
URL:https://emgeeem.com/event/lunch-learn-propagating-care-for-succulents/
LOCATION:The Learning Arts Center at The Armory\, 1018 Madison Avenue\, MONTGOMERY\, AL\, 36107\, United States
END:VEVENT
BEGIN:VEVENT
DTSTART;TZID=America/Chicago:20250702T190000
DTEND;TZID=America/Chicago:20250702T190000
DTSTAMP:20260422T164846
CREATED:20250614T001146Z
LAST-MODIFIED:20250614T001146Z
UID:2384-1751482800-1751482800@emgeeem.com
SUMMARY:Open Mic Night
DESCRIPTION:
URL:https://emgeeem.com/event/open-mic-night-3/
LOCATION:Hilltop Public House\, 3 North Goldthwaite Street\, MONTGOMERY\, AL\, 36104\, United States
END:VEVENT
BEGIN:VEVENT
DTSTART;TZID=America/Chicago:20250703T210000
DTEND;TZID=America/Chicago:20250703T210000
DTSTAMP:20260422T164846
CREATED:20250614T001146Z
LAST-MODIFIED:20250614T001146Z
UID:2385-1751576400-1751576400@emgeeem.com
SUMMARY:Retro Video Game Tournament
DESCRIPTION:
URL:https://emgeeem.com/event/retro-video-game-tournament-3/
LOCATION:Hilltop Public House\, 3 North Goldthwaite Street\, MONTGOMERY\, AL\, 36104\, United States
END:VEVENT
BEGIN:VEVENT
DTSTART;TZID=America/Chicago:20250704T190000
DTEND;TZID=America/Chicago:20250704T190000
DTSTAMP:20260422T164846
CREATED:20250614T001146Z
LAST-MODIFIED:20250614T001146Z
UID:2386-1751655600-1751655600@emgeeem.com
SUMMARY:Karaoke
DESCRIPTION:
URL:https://emgeeem.com/event/karaoke-3/
LOCATION:Hilltop Public House\, 3 North Goldthwaite Street\, MONTGOMERY\, AL\, 36104\, United States
END:VEVENT
BEGIN:VEVENT
DTSTART;TZID=America/Chicago:20250707T173000
DTEND;TZID=America/Chicago:20250707T210000
DTSTAMP:20260422T164846
CREATED:20250614T001201Z
LAST-MODIFIED:20250614T001201Z
UID:2387-1751909400-1751922000@emgeeem.com
SUMMARY:Table Top Night
DESCRIPTION:
URL:https://emgeeem.com/event/table-top-night-4/
LOCATION:Hilltop Public House\, 3 North Goldthwaite Street\, MONTGOMERY\, AL\, 36104\, United States
END:VEVENT
BEGIN:VEVENT
DTSTART;TZID=America/Chicago:20250708T120000
DTEND;TZID=America/Chicago:20250708T130000
DTSTAMP:20260422T164846
CREATED:20250613T205656Z
LAST-MODIFIED:20250613T233613Z
UID:2189-1751976000-1751979600@emgeeem.com
SUMMARY:A Twist on Stumpery - Lunch and Learn
DESCRIPTION:Bring a sack lunch and learn how to creat a unique Stumpery with Sandy Rosamond\, Central Alabama Master Gardener.
URL:https://emgeeem.com/event/a-twist-on-stumpery-lunch-and-learn/
LOCATION:First Presbyterian Church 100 W. Bridge St Wetumpka\, 100 W. Bridge St\, Wetumpka\, AL\, 36092\, United States
ORGANIZER;CN="Central Alabama Master Gardener Association":MAILTO:joebirdwell@gmail.com
END:VEVENT
BEGIN:VEVENT
DTSTART;TZID=America/Chicago:20250708T183000
DTEND;TZID=America/Chicago:20250708T183000
DTSTAMP:20260422T164846
CREATED:20250614T001201Z
LAST-MODIFIED:20250614T001201Z
UID:2388-1751999400-1751999400@emgeeem.com
SUMMARY:Trivia Night
DESCRIPTION:
URL:https://emgeeem.com/event/trivia-night-4/
LOCATION:Hilltop Public House\, 3 North Goldthwaite Street\, MONTGOMERY\, AL\, 36104\, United States
END:VEVENT
BEGIN:VEVENT
DTSTART;TZID=America/Chicago:20250709T000000
DTEND;TZID=America/Chicago:20250817T000000
DTSTAMP:20260422T164846
CREATED:20250613T210600Z
LAST-MODIFIED:20250613T234326Z
UID:2228-1752019200-1755388800@emgeeem.com
SUMMARY:The Wizard of Oz
DESCRIPTION:The wizard of oz\nJuly 9–August 17\, 2025\nMusic and Lyrics by Harold Arlen and E. Y. Harburg | Background Music by Herbert Stothart\nFestival Stage | Recommended Ages 5+\nFollow the yellow brick road in this delightful stage adaptation of L. Frank Baum’s beloved tale\, featuring the iconic musical score from the MGM film. The timeless tale\, in which young Dorothy Gale travels from Kansas over the rainbow to the magical Land of Oz\, is a thrill for audiences of all ages. \n 
URL:https://emgeeem.com/event/the-wizard-of-oz/
LOCATION:Alabama Shakespeare Festival\, 1 Festival Dr\, MONTGOMERY\, AL\, 36117\, United States
END:VEVENT
BEGIN:VEVENT
DTSTART;TZID=America/Chicago:20250709T190000
DTEND;TZID=America/Chicago:20250709T190000
DTSTAMP:20260422T164846
CREATED:20250614T001201Z
LAST-MODIFIED:20250614T001201Z
UID:2389-1752087600-1752087600@emgeeem.com
SUMMARY:Open Mic Night
DESCRIPTION:
URL:https://emgeeem.com/event/open-mic-night-4/
LOCATION:Hilltop Public House\, 3 North Goldthwaite Street\, MONTGOMERY\, AL\, 36104\, United States
END:VEVENT
BEGIN:VEVENT
DTSTART;TZID=America/Chicago:20250710T163000
DTEND;TZID=America/Chicago:20250710T183000
DTSTAMP:20260422T164846
CREATED:20250613T211841Z
LAST-MODIFIED:20250613T211841Z
UID:2150-1752165000-1752172200@emgeeem.com
SUMMARY:Mind’s Eye: The Imaginary & Recollected Art of LiPHUS (MiCK) SWiNDALL
DESCRIPTION:New artist. New paintings. Intense color. Unusual texture. Distinctive content. \nMillbrook Cultural Arts Center (The Art Mill)\, 3560 Grandview Rd\, Millbrook\, AL
URL:https://emgeeem.com/event/minds-eye-the-imaginary-recollected-art-of-liphus-mick-swindall/
LOCATION:The Art Mil\, 3560 Grandview Rd\, Millbrook\, AL\, 36054
ATTACH;FMTTYPE=image/jpeg:https://emgeeem.com/wp-content/uploads/2025/06/phonto.jpeg
END:VEVENT
BEGIN:VEVENT
DTSTART;TZID=America/Chicago:20250710T210000
DTEND;TZID=America/Chicago:20250710T210000
DTSTAMP:20260422T164846
CREATED:20250614T001201Z
LAST-MODIFIED:20250614T001201Z
UID:2390-1752181200-1752181200@emgeeem.com
SUMMARY:Retro Video Game Tournament
DESCRIPTION:
URL:https://emgeeem.com/event/retro-video-game-tournament-4/
LOCATION:Hilltop Public House\, 3 North Goldthwaite Street\, MONTGOMERY\, AL\, 36104\, United States
END:VEVENT
BEGIN:VEVENT
DTSTART;TZID=America/Chicago:20250711T000000
DTEND;TZID=America/Chicago:20250711T000000
DTSTAMP:20260422T164846
CREATED:20250613T210250Z
LAST-MODIFIED:20250613T231630Z
UID:2215-1752192000-1752192000@emgeeem.com
SUMMARY:Movie at the Library: Encanto
DESCRIPTION:
URL:https://emgeeem.com/event/movie-at-the-library-encanto/
LOCATION:Coliseum Boulevard Branch Library\, 840 Coliseum Boulevard\, MONTGOMERY\, AL\, 36109\, United States
END:VEVENT
BEGIN:VEVENT
DTSTART;TZID=America/Chicago:20250711T180000
DTEND;TZID=America/Chicago:20250711T200000
DTSTAMP:20260422T164846
CREATED:20250626T212447Z
LAST-MODIFIED:20250626T212447Z
UID:2463-1752256800-1752264000@emgeeem.com
SUMMARY:Adult Book Fair
DESCRIPTION:Come out July 11 from 6-8 PM for an adult book fair. \nShop books and merch\, read inside with Prattville Silent Book Club\, and grab bookish-themed drinks from West Main Coffeehouse. \nYou don’t want to miss this event!
URL:https://emgeeem.com/event/adult-book-fair/
LOCATION:West Main Coffeehouse and Creamery\, 167 W Main St\, Prattville\, 36067
ATTACH;FMTTYPE=image/jpeg:https://emgeeem.com/wp-content/uploads/2025/06/Book-Fair.jpg
END:VEVENT
END:VCALENDAR