BEGIN:VCALENDAR
VERSION:2.0
PRODID:-//Em Gee Em - ECPv6.15.14//NONSGML v1.0//EN
CALSCALE:GREGORIAN
METHOD:PUBLISH
X-WR-CALNAME:Em Gee Em
X-ORIGINAL-URL:https://emgeeem.com
X-WR-CALDESC:Events for Em Gee Em
REFRESH-INTERVAL;VALUE=DURATION:PT1H
X-Robots-Tag:noindex
X-PUBLISHED-TTL:PT1H
BEGIN:VTIMEZONE
TZID:America/Chicago
BEGIN:DAYLIGHT
TZOFFSETFROM:-0600
TZOFFSETTO:-0500
TZNAME:CDT
DTSTART:20240310T080000
END:DAYLIGHT
BEGIN:STANDARD
TZOFFSETFROM:-0500
TZOFFSETTO:-0600
TZNAME:CST
DTSTART:20241103T070000
END:STANDARD
BEGIN:DAYLIGHT
TZOFFSETFROM:-0600
TZOFFSETTO:-0500
TZNAME:CDT
DTSTART:20250309T080000
END:DAYLIGHT
BEGIN:STANDARD
TZOFFSETFROM:-0500
TZOFFSETTO:-0600
TZNAME:CST
DTSTART:20251102T070000
END:STANDARD
BEGIN:DAYLIGHT
TZOFFSETFROM:-0600
TZOFFSETTO:-0500
TZNAME:CDT
DTSTART:20260308T080000
END:DAYLIGHT
BEGIN:STANDARD
TZOFFSETFROM:-0500
TZOFFSETTO:-0600
TZNAME:CST
DTSTART:20261101T070000
END:STANDARD
END:VTIMEZONE
BEGIN:VEVENT
DTSTART;TZID=America/Chicago:20250628T200000
DTEND;TZID=America/Chicago:20250628T200000
DTSTAMP:20260422T170751
CREATED:20250613T205724Z
LAST-MODIFIED:20250613T230124Z
UID:2198-1751140800-1751140800@emgeeem.com
SUMMARY:Montgomery Gentry featuring Eddie Montgomery
DESCRIPTION:
URL:https://emgeeem.com/event/montgomery-gentry-featuring-eddie-montgomery/
LOCATION:The Montgomery Performing Arts Centre at Renaissance Montgomery\, 201 Tallapoosa St\, MONTGOMERY\, AL\, 36104\, United States
END:VEVENT
BEGIN:VEVENT
DTSTART;TZID=America/Chicago:20250627T140000
DTEND;TZID=America/Chicago:20250627T140000
DTSTAMP:20260422T170751
CREATED:20250613T205656Z
LAST-MODIFIED:20250613T225805Z
UID:2191-1751032800-1751032800@emgeeem.com
SUMMARY:Let's Go Legos!
DESCRIPTION:
URL:https://emgeeem.com/event/lets-go-legos/
LOCATION:Autauga Prattville Public Library\, 254 Doster St\, Prattville\, AL\, 36067\, United States
END:VEVENT
BEGIN:VEVENT
DTSTART;TZID=America/Chicago:20250616T180000
DTEND;TZID=America/Chicago:20250616T180000
DTSTAMP:20260422T170751
CREATED:20250613T205656Z
LAST-MODIFIED:20250613T221156Z
UID:2192-1750096800-1750096800@emgeeem.com
SUMMARY:Silent Disco
DESCRIPTION:Youth ages 12 – 18 years are welcome to come boogie oogie oogie at the library after hours at our Silent Disco! This is a free event\, but you will need to register first. There are a limited # of headsets\, so don’t wait too late to register!If you have any questions\, please email kivey@appl.info or call 334.365.3396 ext 17
URL:https://emgeeem.com/event/silent-disco/
LOCATION:Autauga Prattville Public Library\, 254 Doster St\, Prattville\, AL\, 36067\, United States
END:VEVENT
BEGIN:VEVENT
DTSTART;TZID=America/Chicago:20250619T190000
DTEND;TZID=America/Chicago:20250619T190000
DTSTAMP:20260422T170751
CREATED:20250613T205626Z
LAST-MODIFIED:20250613T222913Z
UID:2183-1750359600-1750359600@emgeeem.com
SUMMARY:Purple Rain
DESCRIPTION:
URL:https://emgeeem.com/event/purple-rain/
LOCATION:Capri Theatre\, 1045 E Fairview Ave\, MONTGOMERY\, AL\, 36106\, United States
END:VEVENT
BEGIN:VEVENT
DTSTART;TZID=America/Chicago:20250618T100000
DTEND;TZID=America/Chicago:20250618T100000
DTSTAMP:20260422T170751
CREATED:20250613T205625Z
LAST-MODIFIED:20250613T222046Z
UID:2181-1750240800-1750240800@emgeeem.com
SUMMARY:Captain Underpants
DESCRIPTION:
URL:https://emgeeem.com/event/captain-underpants/
LOCATION:Capri Theatre\, 1045 E Fairview Ave\, MONTGOMERY\, AL\, 36106\, United States
END:VEVENT
BEGIN:VEVENT
DTSTART;TZID=America/Chicago:20250617T190000
DTEND;TZID=America/Chicago:20250617T190000
DTSTAMP:20260422T170751
CREATED:20250613T205625Z
LAST-MODIFIED:20250613T222205Z
UID:2182-1750186800-1750186800@emgeeem.com
SUMMARY:Queer
DESCRIPTION:
URL:https://emgeeem.com/event/queer/
LOCATION:Capri Theatre\, 1045 E Fairview Ave\, MONTGOMERY\, AL\, 36106\, United States
END:VEVENT
BEGIN:VEVENT
DTSTART;TZID=America/Chicago:20250608T150000
DTEND;TZID=America/Chicago:20250608T150000
DTSTAMP:20260422T170751
CREATED:20250613T205555Z
LAST-MODIFIED:20250613T215913Z
UID:2161-1749394800-1749394800@emgeeem.com
SUMMARY:Jennifer Horne returns to talk about Letters to Little Rock: Poems
DESCRIPTION:
URL:https://emgeeem.com/event/jennifer-horne-returns-to-talk-about-letters-to-little-rock-poems/
LOCATION:The NewSouth Bookstore\, 105 S. Court Street\, MONTGOMERY\, AL\, 36104\, United States
END:VEVENT
BEGIN:VEVENT
DTSTART;TZID=America/Chicago:20250603T180000
DTEND;TZID=America/Chicago:20250603T180000
DTSTAMP:20260422T170751
CREATED:20250613T205554Z
LAST-MODIFIED:20250613T215813Z
UID:2160-1748973600-1748973600@emgeeem.com
SUMMARY:A Summer Musical Revue w Karren Pell and Friends
DESCRIPTION:
URL:https://emgeeem.com/event/a-summer-musical-revue-w-karren-pell-and-friends/
LOCATION:The NewSouth Bookstore\, 105 S. Court Street\, MONTGOMERY\, AL\, 36104\, United States
END:VEVENT
END:VCALENDAR