BEGIN:VCALENDAR
VERSION:2.0
PRODID:-//Em Gee Em - ECPv6.15.14//NONSGML v1.0//EN
CALSCALE:GREGORIAN
METHOD:PUBLISH
X-WR-CALNAME:Em Gee Em
X-ORIGINAL-URL:https://emgeeem.com
X-WR-CALDESC:Events for Em Gee Em
REFRESH-INTERVAL;VALUE=DURATION:PT1H
X-Robots-Tag:noindex
X-PUBLISHED-TTL:PT1H
BEGIN:VTIMEZONE
TZID:America/Chicago
BEGIN:DAYLIGHT
TZOFFSETFROM:-0600
TZOFFSETTO:-0500
TZNAME:CDT
DTSTART:20240310T080000
END:DAYLIGHT
BEGIN:STANDARD
TZOFFSETFROM:-0500
TZOFFSETTO:-0600
TZNAME:CST
DTSTART:20241103T070000
END:STANDARD
BEGIN:DAYLIGHT
TZOFFSETFROM:-0600
TZOFFSETTO:-0500
TZNAME:CDT
DTSTART:20250309T080000
END:DAYLIGHT
BEGIN:STANDARD
TZOFFSETFROM:-0500
TZOFFSETTO:-0600
TZNAME:CST
DTSTART:20251102T070000
END:STANDARD
BEGIN:DAYLIGHT
TZOFFSETFROM:-0600
TZOFFSETTO:-0500
TZNAME:CDT
DTSTART:20260308T080000
END:DAYLIGHT
BEGIN:STANDARD
TZOFFSETFROM:-0500
TZOFFSETTO:-0600
TZNAME:CST
DTSTART:20261101T070000
END:STANDARD
END:VTIMEZONE
BEGIN:VEVENT
DTSTART;TZID=America/Chicago:20250506T090000
DTEND;TZID=America/Chicago:20250506T120000
DTSTAMP:20260422T164950
CREATED:20250419T201937Z
LAST-MODIFIED:20250419T201937Z
UID:1835-1746522000-1746532800@emgeeem.com
SUMMARY:City of Montgomery Semi-Annual Job Fair
DESCRIPTION:‘MONTGOMERY CAREER CENTER & THE CITY OF MONTGOMERY SEMI- SEMI-ANNUAL JOB FAIR \nConnect with over 70 employers and find a career fitting for you!! Date Tuesday May 6\, 2025 Time 09:00 am. 12:00 pm S The Multiplex at Cramton Bowl 220 Hall Street Montgomery\, AL 36116
URL:https://emgeeem.com/event/city-of-montgomery-semi-annual-job-fair/
LOCATION:Multiplex at Cramton Bowl\, 220 Hall St\, MONTGOMERY\, AL\, 36104\, United States
END:VEVENT
BEGIN:VEVENT
DTSTART;TZID=America/Chicago:20250506T173000
DTEND;TZID=America/Chicago:20250506T190000
DTSTAMP:20260422T164950
CREATED:20250419T051549Z
LAST-MODIFIED:20250419T195257Z
UID:1788-1746552600-1746558000@emgeeem.com
SUMMARY:The Last American Road Trip by Sarah Kendzior
DESCRIPTION:Sarah Kendzior is our special guest at The NewSouth Bookstore on Tuesday\, May 6 at 5:30pm. She will be in conversation with Lee Farrow about her amazing new book\, The Last American Road Trip. The book\, which chronicles a series of road trips the political journalist took with her family\, navigates a changing America in a work that is part memoir\, part travelogue\, and part work of history. The Last American Road Trip is one mother’s promise to her children that their country will be there for them in the future — even though at times she struggles to believe it herself. Author Sebastian Junger says\, “Kendzior is an absolutely terrific writer — a preeminent voice of her generation — and her love for this troubled country flows like a kind of lifeblood through her work.” Join us for what promises to be a most interesting book program on May 6.
URL:https://emgeeem.com/event/the-last-american-road-trip-by-sarah-kendzior/
LOCATION:The NewSouth Bookstore\, 105 S. Court Street\, MONTGOMERY\, AL\, 36104\, United States
END:VEVENT
BEGIN:VEVENT
DTSTART;TZID=America/Chicago:20250509T050000
DTEND;TZID=America/Chicago:20250511T133000
DTSTAMP:20260422T164950
CREATED:20250507T180640Z
LAST-MODIFIED:20250507T181330Z
UID:1933-1746766800-1746970200@emgeeem.com
SUMMARY:Anarcha\, Lucy\, Betsey Mother's Day Weekend
DESCRIPTION:May 9th: Reception and live music at the Mothers of Gynecology Monument \nMay 10th: The Mothers Tour\, Tour the Mothers of Gynecology Clinic\, Dinner Theatre \nMay 11th: Unveiling of Robert Thom’s original painting “45 Great Moments in Medicine” The “Reclaiming Our Time Exhibit” proudly showcases Robert Thom’s original painting\, generously provided by the University of Michigan. This evocative piece is currently on display at The More Up Campus\, Mother’s Day 2025.
URL:https://emgeeem.com/event/anarcha-lucy-betsey-mothers-day-weekend/
LOCATION:Anarcha\, Lucy\, Betsey Monument\, 17 Mildred St\, MONTGOMERY\, AL\, 36104\, United States
ORGANIZER;CN="More Than Tours":MAILTO:iammorethan@icloud.com
END:VEVENT
BEGIN:VEVENT
DTSTART;TZID=America/Chicago:20250516T160000
DTEND;TZID=America/Chicago:20250518T230000
DTSTAMP:20260422T164950
CREATED:20250424T000559Z
LAST-MODIFIED:20250424T000559Z
UID:1845-1747411200-1747609200@emgeeem.com
SUMMARY:3rd Annual Red Bluff Music\, Arts and Food Festival
DESCRIPTION:Red Bluff Music\, Arts and Food Festival is thrilled to announce its unforgettable weekend of live music\, creative arts\, and culinary delights from May 16-18 at Riverfront Park in downtown Montgomery. This year’s festival will showcase an exciting array of musical talent including Mononeon\, Eggy\, Clay Street Unit\, DJ Logic (x3)\, Buffalo Nichols\, Boukou Groove\, Winston Ramble\, Little Raine Band\, Electric Blue Yonder\, The Major Dudes (Steely Dan Tribute)\, and Blues Old Stand. Each year\, the festival attracts renowned musical talents while highlighting local and regional bands\, along with visual and culinary artists\, creating a dynamic cultural celebration for all. \nThe festivities kick off on Friday night at Red Bluff Bar with a free show open to the public\, followed by dynamic performances at the Riverwalk Amphitheater on Saturday and Sunday. With single-day ($50)\, two-day ($80)\, and VIP ($200) ticket options available now at RedBluffFest.com\, fans can secure their spot at one of the year’s most anticipated events. \nIn addition to an electrifying musical and artistic experience\, Red Bluff Music\, Arts and Food Festival is now offering sponsorship as well as artist and craft vending opportunities. Local businesses and other brands have the chance to engage with a passionate audience and become a vital part of the festival’s success.
URL:https://emgeeem.com/event/3rd-annual-red-bluff-music-arts-and-food-festival/
LOCATION:Riverfront Park\, 355 Commerce St\, Montgomery\, 36106\, United States
ATTACH;FMTTYPE=image/png:https://emgeeem.com/wp-content/uploads/2025/04/RedBluff2025Square_BANDS_INFO2.png
ORGANIZER;CN="Vintage Hospitality Group":MAILTO:jud@vintagehg.com
END:VEVENT
BEGIN:VEVENT
DTSTART;TZID=America/Chicago:20250517T070000
DTEND;TZID=America/Chicago:20250517T080000
DTSTAMP:20260422T164950
CREATED:20250506T022502Z
LAST-MODIFIED:20250510T185717Z
UID:1891-1747465200-1747468800@emgeeem.com
SUMMARY:Together We Run - Initial Meet Up at Prevail Union
DESCRIPTION:Kick off for Prevail’s new run club – Together We Run. \nAll skill levels are welcome and runners will also get to enjoy 10% off cold brew\, drip coffee\, and breakfast items. \nScan the code to join!
URL:https://emgeeem.com/event/together-we-run-initial-meet-up-at-prevail-union/
LOCATION:Prevail Union\, 39 Dexter Ave Suite 102
END:VEVENT
BEGIN:VEVENT
DTSTART;TZID=America/Chicago:20250517T110000
DTEND;TZID=America/Chicago:20250517T170000
DTSTAMP:20260422T164950
CREATED:20250517T163116Z
LAST-MODIFIED:20250517T163116Z
UID:1992-1747479600-1747501200@emgeeem.com
SUMMARY:2nd Annual Food & Grooves Mayfest
DESCRIPTION:The 2nd Annual Food & Grooves Mayfest is coming back this year in full force! This event is family and dog friendly and will involve food trucks\, live entertainment\, vendors and more! The City of Montgomery Parks and Recreation Department has been working hard to bring this super fun event back and we cannot wait to see you there!\nThis FREE event takes place at the Rotary Dog Park on Coosa St. Bring a lawn chair and plan to hang out for the day!
URL:https://emgeeem.com/event/2nd-annual-food-grooves-mayfest/
LOCATION:Rotary Dog Park\, 98 Coosa St\, Montgomery\, 36104
END:VEVENT
BEGIN:VEVENT
DTSTART;TZID=America/Chicago:20250520T114500
DTEND;TZID=America/Chicago:20250520T130000
DTSTAMP:20260422T164950
CREATED:20250308T153600Z
LAST-MODIFIED:20250308T155915Z
UID:105-1747741500-1747746000@emgeeem.com
SUMMARY:Spark Sessions: Ethical Creativity with David Gacsko
DESCRIPTION:Ignite your creativity at our NEW program series\, Spark Sessions! 🌟 This spring\, join AAF Montgomery for a series of dynamic discussions and expert-led talks designed to fuel your imagination and elevate your career. From nonprofit marketing and social media tips to work-life balance and animation\, we’ll cover everything you need to stay inspired and informed in today’s fast-paced industry. \nWhether you want to purchase the whole package (at a discount) or just this event\, it’s all up to you!
URL:https://emgeeem.com/event/spark-sessions-ethical-creativity-with-david-gacsko/
LOCATION:AL
END:VEVENT
BEGIN:VEVENT
DTSTART;TZID=America/Chicago:20250523T190000
DTEND;TZID=America/Chicago:20250523T210000
DTSTAMP:20260422T164950
CREATED:20250519T214635Z
LAST-MODIFIED:20250519T214635Z
UID:2020-1748026800-1748034000@emgeeem.com
SUMMARY:Jubilee Pops Concert
DESCRIPTION:Join the Montgomery Symphony Orchestra on May 23 at 7pm for Jubilee Pops\, a FREE concert event to kick off Memorial Day Weekend in Montgomery. Bring your lawn chairs\, picnic baskets and get the best seat in the house on lawn of the Alabama Department of Archives and History!\nThe Jubilee Pops Concert is generously sponsored by The J.K. Lowder Family Foundation and The S. Adam Schloss Foundation.
URL:https://emgeeem.com/event/jubilee-pops-concert/
LOCATION:Alabama Department of Archives and History\, 624 Washington Ave\, MONTGOMERY\, AL\, 36104\, United States
ORGANIZER;CN="Montgomery Symphony Orchestra":MAILTO:montgomerysymphony@gmail.com
END:VEVENT
BEGIN:VEVENT
DTSTART;TZID=America/Chicago:20250524T120000
DTEND;TZID=America/Chicago:20250524T170000
DTSTAMP:20260422T164950
CREATED:20250519T215547Z
LAST-MODIFIED:20250519T215632Z
UID:2026-1748088000-1748106000@emgeeem.com
SUMMARY:Trade and Learn to Play Gaming Celebration
DESCRIPTION:We will have gamers on hand to teach any of the games we currently have: Pokémon\, Digimon\, Disney’s Lorcana\, Warhammer\, Magic the Gathering\, D&D\, BattleTech\, and Many More!Food\, Games\, and Prizes on offer
URL:https://emgeeem.com/event/trade-and-learn-to-play-gaming-celebration/
LOCATION:Hobby Hole\, 910 Adams Ave\, MONTGOMERY\, AL\, 36104\, United States
END:VEVENT
BEGIN:VEVENT
DTSTART;TZID=America/Chicago:20250527T190000
DTEND;TZID=America/Chicago:20250527T210000
DTSTAMP:20260422T164950
CREATED:20250519T215246Z
LAST-MODIFIED:20250519T215624Z
UID:2022-1748372400-1748379600@emgeeem.com
SUMMARY:My Neighbor Totoro
DESCRIPTION:In this perfect-for-the-whole-family masterpiece by Hayao Miyazaki\, two young girls\, Satsuki and Mei\, have moved with their father into a new home in the country\, while their mother recovers from illness in a nearby hospital. To their surprise\, they soon discover that they share this home with some rather unusual creatures and even stranger neighbours – forest guardians that the girls dub Totoro. When trouble occurs\, their new friends will help them rediscover hope.
URL:https://emgeeem.com/event/my-neighbor-totoro/
LOCATION:Capri Theatre\, 1045 E Fairview Ave\, MONTGOMERY\, AL\, 36106\, United States
END:VEVENT
BEGIN:VEVENT
DTSTART;TZID=America/Chicago:20250530T190000
DTEND;TZID=America/Chicago:20250530T230000
DTSTAMP:20260422T164950
CREATED:20250519T214141Z
LAST-MODIFIED:20250519T214141Z
UID:2018-1748631600-1748646000@emgeeem.com
SUMMARY:Prattville Pride Presents: The Glow Party
DESCRIPTION:**🌈 Prattville Pride Presents: The Glow Party**\n**🗓 Friday\, May 30th | 🕖 7 PM – 11 PM**\n**📍 Armory Learning Arts Center | 1018 Madison Avenue\, Montgomery\, AL**\n** 18+ Only | 🎟 $20 at the door**\nGet ready to light up the night at **Prattville Pride’s Glow Party**—an **adult-only\, rave-style celebration** designed for our LGBTQ+ community and allies to **show up\, show out\, and shine bright**!\nThis high-energy\, neon-drenched evening will feature **e**\, drag performances\, black lights\, a dance floor that pulses with pride\, and a whole lot of glow. Dress in your best UV-reactive fits and prepare to move your body\, connect with your people\, and celebrate without limits.\nWhile our Sunday Pride Fest remains family-friendly\, this Friday night **Glow Party is all about letting loose and owning your sexuality and identity unapologetically**. It’s your moment to dance\, flirt\, vibe\, and revel in queer joy\, freedom\, and community.\n**Come make magic with us. Let’s glow wild together.**
URL:https://emgeeem.com/event/prattville-pride-presents-the-glow-party/
LOCATION:The Learning Arts Center at The Armory\, 1018 Madison Avenue\, MONTGOMERY\, AL\, 36107\, United States
END:VEVENT
BEGIN:VEVENT
DTSTART;TZID=America/Chicago:20250602T090000
DTEND;TZID=America/Chicago:20250901T160000
DTSTAMP:20260422T164950
CREATED:20250613T210507Z
LAST-MODIFIED:20250613T233137Z
UID:2223-1748854800-1756742400@emgeeem.com
SUMMARY:Exhibit: Commerce\, Connection & Culture
DESCRIPTION:Commerce\, Connection\, and Culture\, aims to honor and amplify the story of the River Region Indigenous people in recorded history\, fostering a greater appreciation of the era\, the landscape\, the individuals\, and their roles in our region’s history. \nThrough this and every exhibit\, we aim to ignite interest in Montgomery’s history and encourage the exploration of local historical sites and attractio
URL:https://emgeeem.com/event/exhibit-commerce-connection-culture/
LOCATION:Montgomery County Historical Society\, 512 S Court St\, MONTGOMERY\, AL\, 36104\, United States
END:VEVENT
BEGIN:VEVENT
DTSTART;TZID=America/Chicago:20250603T180000
DTEND;TZID=America/Chicago:20250603T190000
DTSTAMP:20260422T164950
CREATED:20250519T220212Z
LAST-MODIFIED:20250519T220212Z
UID:2031-1748973600-1748977200@emgeeem.com
SUMMARY:A Summer Musical Revue with Karren Pell and friends
DESCRIPTION:Summer time\, and the livin’ is easy. We couldn’t be happier to welcome back Karren Pell and her group of talented musicians — the Old Alabama Revue — to The NewSouth Bookstore to celebrate the arrival of summer. Kick into relax mode with their tuneful revue\, with renditions of your favorite songs and others — but allow for surprises! With this group\, there are always musical and other surprises! Join us for the fun and laughter and snacks\, too\, along with the strains of your favorite beach songs\, and maybe a sing-along\, too.
URL:https://emgeeem.com/event/a-summer-musical-revue-with-karren-pell-and-friends/
LOCATION:The NewSouth Bookstore\, 105 S. Court Street\, MONTGOMERY\, AL\, 36104\, United States
END:VEVENT
BEGIN:VEVENT
DTSTART;TZID=America/Chicago:20250606T140000
DTEND;TZID=America/Chicago:20250630T000000
DTSTAMP:20260422T164950
CREATED:20250613T210507Z
LAST-MODIFIED:20250613T233955Z
UID:2221-1749218400-1751241600@emgeeem.com
SUMMARY:Art Exhibition: The Black Experience
DESCRIPTION:“The Black Experience”.\n\n\nThis powerful exhibition reflects on the richness\, complexity\, and resilience of Black identity through time.\n\n\nThe artwork exhibited invites us to explore stories rooted in tradition\, transformation\, and triumph.
URL:https://emgeeem.com/event/art-exhibition-the-black-experience/
LOCATION:The Learning Arts Center at The Armory\, 1018 Madison Avenue\, MONTGOMERY\, AL\, 36107\, United States
ORGANIZER;CN="The Learning Arts Center at The Armory":MAILTO:joebirdwell@gmail.com
END:VEVENT
BEGIN:VEVENT
DTSTART;TZID=America/Chicago:20250607T193000
DTEND;TZID=America/Chicago:20250607T193000
DTSTAMP:20260422T164950
CREATED:20250613T205724Z
LAST-MODIFIED:20250613T215556Z
UID:2196-1749324600-1749324600@emgeeem.com
SUMMARY:On the Road with Home Free
DESCRIPTION:
URL:https://emgeeem.com/event/on-the-road-with-home-free/
LOCATION:The Montgomery Performing Arts Centre at Renaissance Montgomery\, 201 Tallapoosa St\, MONTGOMERY\, AL\, 36104\, United States
END:VEVENT
BEGIN:VEVENT
DTSTART;TZID=America/Chicago:20250608T133000
DTEND;TZID=America/Chicago:20250608T133000
DTSTAMP:20260422T164950
CREATED:20250613T205611Z
LAST-MODIFIED:20250613T215511Z
UID:2177-1749389400-1749389400@emgeeem.com
SUMMARY:The Good\, The Bad and The Ugly
DESCRIPTION:
URL:https://emgeeem.com/event/the-good-the-bad-and-the-ugly/
LOCATION:Capri Theatre\, 1045 E Fairview Ave\, MONTGOMERY\, AL\, 36106\, United States
END:VEVENT
BEGIN:VEVENT
DTSTART;TZID=America/Chicago:20250614T060000
DTEND;TZID=America/Chicago:20250614T060000
DTSTAMP:20260422T164950
CREATED:20250614T001331Z
LAST-MODIFIED:20250614T001331Z
UID:2418-1749880800-1749880800@emgeeem.com
SUMMARY:Sunrise Social Club
DESCRIPTION:
URL:https://emgeeem.com/event/sunrise-social-club/
LOCATION:Hilltop Public House\, 3 North Goldthwaite Street\, MONTGOMERY\, AL\, 36104\, United States
END:VEVENT
BEGIN:VEVENT
DTSTART;TZID=America/Chicago:20250614T070000
DTEND;TZID=America/Chicago:20250614T070000
DTSTAMP:20260422T164950
CREATED:20250614T001316Z
LAST-MODIFIED:20250614T001316Z
UID:2416-1749884400-1749884400@emgeeem.com
SUMMARY:Prattville Farmers Market
DESCRIPTION:
URL:https://emgeeem.com/event/prattville-farmers-market/
LOCATION:AL
END:VEVENT
BEGIN:VEVENT
DTSTART;TZID=America/Chicago:20250614T070000
DTEND;TZID=America/Chicago:20250614T070000
DTSTAMP:20260422T164950
CREATED:20250614T001331Z
LAST-MODIFIED:20250614T001331Z
UID:2417-1749884400-1749884400@emgeeem.com
SUMMARY:Eastchase Farmers Market
DESCRIPTION:
URL:https://emgeeem.com/event/eastchase-farmers-market/
LOCATION:AL
END:VEVENT
BEGIN:VEVENT
DTSTART;TZID=America/Chicago:20250614T090000
DTEND;TZID=America/Chicago:20250614T150000
DTSTAMP:20260422T164950
CREATED:20250613T210128Z
LAST-MODIFIED:20250613T220754Z
UID:2206-1749891600-1749913200@emgeeem.com
SUMMARY:Montgomery Dragonboat Festival
DESCRIPTION:The Montgomery Dragon Boat Festival is back for the 11th year! We are excited to welcome our past teams back to the water and introduce new teams to Dragon Boat racing. \nThe festival will be held on Saturday\, June 14th\, 2025 in Riverfront Park on the beautiful Alabama River from 9am til around 3pm. The festival is free to attend for spectators and fans. \nThe Montgomery Dragon Boat Festival is an annual community event at Riverfront Park that brings together thousands of Montgomerians to enjoy our beautiful Alabama River and celebrate teamwork and community. The highlight of the festival is the exciting dragon boat races. Long\, narrow boats decorated with dragon heads and tails are paddled by teams to the beat of a drum. These races are both a competitive sport and a cultural spectacle\, symbolizing strength\, teamwork\, and the spirit of the festival. \nFor sponsorship opportunities please contact info@lightningline.co. All corporate sponsorships include a team registration. If you want to support the event but do not have a full team\, you can sponsor a team from the Air Force\, a local high school\, a non-profit\, or another group of your choice. \nAll proceeds raised will benefit River Region Trails\, Inc.\, a regional non-profit working to develop pedestrian and cycling infrastructure to enhance community health\, quality of life\, economic development\, tourism\, and equality. In particular\, they are working to extend the Riverfront Greenway in 2025 which will open up more opportunities for getting out on the water!
URL:https://emgeeem.com/event/montgomery-dragonboat-festival/
LOCATION:Riverfront Park\, 355 Commerce St\, Montgomery\, 36106\, United States
END:VEVENT
BEGIN:VEVENT
DTSTART;TZID=America/Chicago:20250615T150000
DTEND;TZID=America/Chicago:20250615T170000
DTSTAMP:20260422T164950
CREATED:20250614T185207Z
LAST-MODIFIED:20250614T185207Z
UID:2436-1749999600-1750006800@emgeeem.com
SUMMARY:Ultimate - Pickup Game
DESCRIPTION:Pickup Ultimate every Sunday at 3:00 p.m. at Audobon Park.  All levels welcome.  Please see the Montgomery Ultimate Facebook page for updates on when and where we play and rain cancellations.
URL:https://emgeeem.com/event/ultimate-pickup-game/
LOCATION:AL
END:VEVENT
BEGIN:VEVENT
DTSTART;TZID=America/Chicago:20250616T173000
DTEND;TZID=America/Chicago:20250616T173000
DTSTAMP:20260422T164950
CREATED:20250614T001301Z
LAST-MODIFIED:20250614T001301Z
UID:2410-1750095000-1750095000@emgeeem.com
SUMMARY:Chess Club for K-12
DESCRIPTION:
URL:https://emgeeem.com/event/chess-club-for-k-12/
LOCATION:AL
END:VEVENT
BEGIN:VEVENT
DTSTART;TZID=America/Chicago:20250616T173000
DTEND;TZID=America/Chicago:20250616T173000
DTSTAMP:20260422T164950
CREATED:20250614T001316Z
LAST-MODIFIED:20250614T001316Z
UID:2413-1750095000-1750095000@emgeeem.com
SUMMARY:Yoga
DESCRIPTION:
URL:https://emgeeem.com/event/yoga/
LOCATION:The Sanctuary\, 432 Goldthwaite St\, MONTGOMERY\, AL\, 36104\, United States
END:VEVENT
BEGIN:VEVENT
DTSTART;TZID=America/Chicago:20250616T173000
DTEND;TZID=America/Chicago:20250616T210000
DTSTAMP:20260422T164950
CREATED:20250614T001130Z
LAST-MODIFIED:20250614T001130Z
UID:2367-1750095000-1750107600@emgeeem.com
SUMMARY:Table Top Night
DESCRIPTION:
URL:https://emgeeem.com/event/table-top-night/
LOCATION:Hilltop Public House\, 3 North Goldthwaite Street\, MONTGOMERY\, AL\, 36104\, United States
END:VEVENT
BEGIN:VEVENT
DTSTART;TZID=America/Chicago:20250616T180000
DTEND;TZID=America/Chicago:20250616T180000
DTSTAMP:20260422T164950
CREATED:20250614T001301Z
LAST-MODIFIED:20250614T001301Z
UID:2407-1750096800-1750096800@emgeeem.com
SUMMARY:Hilltop Happy Hour
DESCRIPTION:
URL:https://emgeeem.com/event/hilltop-happy-hour/
LOCATION:Hilltop Public House\, 3 North Goldthwaite Street\, MONTGOMERY\, AL\, 36104\, United States
END:VEVENT
BEGIN:VEVENT
DTSTART;TZID=America/Chicago:20250617T000000
DTEND;TZID=America/Chicago:20250617T000000
DTSTAMP:20260422T164950
CREATED:20250613T205656Z
LAST-MODIFIED:20250613T221329Z
UID:2193-1750118400-1750118400@emgeeem.com
SUMMARY:Bill Packard: Live and in Color Magic Show
DESCRIPTION:As a part of Summer Reading Program 2025\, the Autauga Prattville Public Library presents Bill Packard the Magic Man\, Live and In Color! Join us at the Doster Center on June 17th at 2pm for a fun afternoon filled with color\, magic and so much more! This is free event!
URL:https://emgeeem.com/event/bill-packard-live-and-in-color-magic-show/
LOCATION:Autauga Prattville Public Library\, 254 Doster St\, Prattville\, AL\, 36067\, United States
END:VEVENT
BEGIN:VEVENT
DTSTART;TZID=America/Chicago:20250617T183000
DTEND;TZID=America/Chicago:20250617T183000
DTSTAMP:20260422T164950
CREATED:20250614T001130Z
LAST-MODIFIED:20250614T001130Z
UID:2368-1750185000-1750185000@emgeeem.com
SUMMARY:Trivia Night
DESCRIPTION:
URL:https://emgeeem.com/event/trivia-night/
LOCATION:Hilltop Public House\, 3 North Goldthwaite Street\, MONTGOMERY\, AL\, 36104\, United States
END:VEVENT
BEGIN:VEVENT
DTSTART;TZID=America/Chicago:20250618T180000
DTEND;TZID=America/Chicago:20250618T180000
DTSTAMP:20260422T164950
CREATED:20250614T001346Z
LAST-MODIFIED:20250614T001346Z
UID:2425-1750269600-1750269600@emgeeem.com
SUMMARY:Leroy Pub Run
DESCRIPTION:
URL:https://emgeeem.com/event/leroy-pub-run/
LOCATION:AL
END:VEVENT
BEGIN:VEVENT
DTSTART;TZID=America/Chicago:20250618T180000
DTEND;TZID=America/Chicago:20250618T210000
DTSTAMP:20260422T164950
CREATED:20250613T210615Z
LAST-MODIFIED:20250613T222741Z
UID:2229-1750269600-1750280400@emgeeem.com
SUMMARY:Wine Down Wednesday
DESCRIPTION:The June event will be at Village Green Records! Bring in your own records for the owner\, Travis\, to play throughout the night\, or just show up empty-handed with an opportunity to pick up some more for your vinyl collection. \n 
URL:https://emgeeem.com/event/wine-down-wednesday/
LOCATION:Village Green Records\, 2960 Zelda Rd F\, MONTGOMERY\, AL\, 36106\, United States
END:VEVENT
BEGIN:VEVENT
DTSTART;TZID=America/Chicago:20250618T190000
DTEND;TZID=America/Chicago:20250618T190000
DTSTAMP:20260422T164950
CREATED:20250614T001130Z
LAST-MODIFIED:20250614T001130Z
UID:2369-1750273200-1750273200@emgeeem.com
SUMMARY:Open Mic Night
DESCRIPTION:
URL:https://emgeeem.com/event/open-mic-night/
LOCATION:Hilltop Public House\, 3 North Goldthwaite Street\, MONTGOMERY\, AL\, 36104\, United States
END:VEVENT
END:VCALENDAR