BEGIN:VCALENDAR
VERSION:2.0
PRODID:-//Em Gee Em - ECPv6.15.14//NONSGML v1.0//EN
CALSCALE:GREGORIAN
METHOD:PUBLISH
X-WR-CALNAME:Em Gee Em
X-ORIGINAL-URL:https://emgeeem.com
X-WR-CALDESC:Events for Em Gee Em
REFRESH-INTERVAL;VALUE=DURATION:PT1H
X-Robots-Tag:noindex
X-PUBLISHED-TTL:PT1H
BEGIN:VTIMEZONE
TZID:America/Chicago
BEGIN:DAYLIGHT
TZOFFSETFROM:-0600
TZOFFSETTO:-0500
TZNAME:CDT
DTSTART:20240310T080000
END:DAYLIGHT
BEGIN:STANDARD
TZOFFSETFROM:-0500
TZOFFSETTO:-0600
TZNAME:CST
DTSTART:20241103T070000
END:STANDARD
BEGIN:DAYLIGHT
TZOFFSETFROM:-0600
TZOFFSETTO:-0500
TZNAME:CDT
DTSTART:20250309T080000
END:DAYLIGHT
BEGIN:STANDARD
TZOFFSETFROM:-0500
TZOFFSETTO:-0600
TZNAME:CST
DTSTART:20251102T070000
END:STANDARD
BEGIN:DAYLIGHT
TZOFFSETFROM:-0600
TZOFFSETTO:-0500
TZNAME:CDT
DTSTART:20260308T080000
END:DAYLIGHT
BEGIN:STANDARD
TZOFFSETFROM:-0500
TZOFFSETTO:-0600
TZNAME:CST
DTSTART:20261101T070000
END:STANDARD
END:VTIMEZONE
BEGIN:VEVENT
DTSTART;TZID=America/Chicago:20250628T140000
DTEND;TZID=America/Chicago:20250628T180000
DTSTAMP:20260422T180516
CREATED:20250613T210615Z
LAST-MODIFIED:20250613T230626Z
UID:2230-1751119200-1751133600@emgeeem.com
SUMMARY:Summer in the City
DESCRIPTION:Get ready for an unforgettable afternoon of fun\, music\, and community vibes at the Summer in the City Block Party! \nEnjoy: \nA live DJ spinning your favorite tunes\nFace painting & temporary tattoos\nInflatable slides & bouncy houses\nHip-hop & breakdancing performances by local dance crews\nBalloon artists\nFood trucks & local vendors\nYard games and more!\nThrow on your best retro gear\, bring the family\, and don’t forget your giant boombox spirit—we’re turning up the fun at Vaughn Road Park! \n 
URL:https://emgeeem.com/event/summer-in-the-city/
LOCATION:Vaughn Road Park\, 2858 Fieldcrest Dr\, MONTGOMERY\, AL\, 36106\, United States
END:VEVENT
BEGIN:VEVENT
DTSTART;TZID=America/Chicago:20250628T110000
DTEND;TZID=America/Chicago:20250628T160000
DTSTAMP:20260422T180516
CREATED:20250626T200026Z
LAST-MODIFIED:20250626T200026Z
UID:2456-1751108400-1751126400@emgeeem.com
SUMMARY:Hyperbole Books Pop-Up @ SAMC
DESCRIPTION:Hyperbole Books will be popping up from 11 – 4 at Southern Art and Makers Collective.
URL:https://emgeeem.com/event/hyperbole-books-pop-up-samc/
LOCATION:Southern Art & Makers Collective\, 1228 Madison Ave\, MONTGOMERY\, AL\, 36107\, United States
ATTACH;FMTTYPE=image/jpeg:https://emgeeem.com/wp-content/uploads/2025/06/IMG_4612-scaled.jpeg
END:VEVENT
BEGIN:VEVENT
DTSTART;TZID=America/Chicago:20250628T110000
DTEND;TZID=America/Chicago:20250628T140000
DTSTAMP:20260422T180516
CREATED:20250613T205641Z
LAST-MODIFIED:20250613T230009Z
UID:2187-1751108400-1751119200@emgeeem.com
SUMMARY:Food and Grooves Pet Day in the Park
DESCRIPTION:The City of Montgomery Parks and Recreation is excited to announce the upcoming Food and Grooves Pet Day in the Park\, taking place at Rotary Dog Park in downtown Montgomery on Saturday\, June 28\, from 11 a.m. to 2 p.m. This free event invites all friendly leashed pets and their owners to enjoy a day filled with fun\, food\, and entertainment. \nAttendees can look forward to a variety of food trucks and vendors offering delicious options to satisfy every palate. Live entertainment will keep the atmosphere lively\, making it a perfect outing for families and pet lovers alike. The event is designed to be extremely pet-friendly\, ensuring that both pets and their owners have a memorable experience. \nParticipants are encouraged to bring their own coolers\, lawn chairs\, and sunscreen to make the most of the day. Whether you want to relax in the shade or enjoy the vibrant atmosphere\, Food and Grooves Pet Day in the Park promises to be a delightful way to spend a Saturday. \nDon’t miss out on this fantastic opportunity to connect with fellow pet owners and enjoy the community spirit of Montgomery. Mark your calendars and prepare for a day of fun\, food\, and furry friends! \n 
URL:https://emgeeem.com/event/food-and-grooves-pet-day-in-the-park/
LOCATION:Rotary Dog Park\, 98 Coosa St\, Montgomery\, 36104
END:VEVENT
BEGIN:VEVENT
DTSTART;TZID=America/Chicago:20250628T103000
DTEND;TZID=America/Chicago:20250628T113000
DTSTAMP:20260422T180516
CREATED:20250613T210128Z
LAST-MODIFIED:20250613T212133Z
UID:2208-1751106600-1751110200@emgeeem.com
SUMMARY:Full S.T.E.A.M. Ahead
DESCRIPTION:“Full S.T.E.A.M. Ahead” for kids ages 4-12. Come and have fun with science\, technology\, engineering\, art and mathematics! Enjoy a hands on learning experience that will encourage creativity\, problem-solving\, and curiosity about the world around you.
URL:https://emgeeem.com/event/full-s-t-e-a-m-ahead/
LOCATION:EL Lowder Regional Branch Library\, 2590 Bell Road\, MONTGOMERY\, AL\, 36117\, United States
END:VEVENT
BEGIN:VEVENT
DTSTART;TZID=America/Chicago:20250628T103000
DTEND;TZID=America/Chicago:20250628T113000
DTSTAMP:20260422T180516
CREATED:20250613T205641Z
LAST-MODIFIED:20250613T212633Z
UID:2185-1751106600-1751110200@emgeeem.com
SUMMARY:Symphonic Story Time: The Noisy Paint Box
DESCRIPTION:Join us for a colorful morning of music and imagination! On Saturday\, June 28 at 10:30am\, the Montgomery Symphony Orchestra presents Symphonic Storytime at the Juliette Hampton Morgan Memorial Library in downtown Montgomery. We’ll read A Noisy Paint Box: The Colors and Sounds of Kandinsky’s Abstract Art—a vibrant tale that explores how the painter experienced sound and color in extraordinary ways. The story will be paired with a live musical demonstration by MSO musicians\, bringing Kandinsky’s world to life through sound. This free event is perfect for young children and their caregivers—come explore the art of listening\, seeing\, and imagining!
URL:https://emgeeem.com/event/symphonic-story-time-the-noisy-paint-box/
LOCATION:Juliette Hampton Morgan Library\, 245 High St\, MONTGOMERY\, AL\, 36104\, United States
END:VEVENT
BEGIN:VEVENT
DTSTART;TZID=America/Chicago:20250628T070000
DTEND;TZID=America/Chicago:20250628T070000
DTSTAMP:20260422T180516
CREATED:20250614T001346Z
LAST-MODIFIED:20250614T001346Z
UID:2423-1751094000-1751094000@emgeeem.com
SUMMARY:Eastchase Farmers Market
DESCRIPTION:
URL:https://emgeeem.com/event/eastchase-farmers-market-3/
END:VEVENT
BEGIN:VEVENT
DTSTART;TZID=America/Chicago:20250628T070000
DTEND;TZID=America/Chicago:20250628T070000
DTSTAMP:20260422T180516
CREATED:20250614T001346Z
LAST-MODIFIED:20250614T001346Z
UID:2422-1751094000-1751094000@emgeeem.com
SUMMARY:Prattville Farmers Market
DESCRIPTION:
URL:https://emgeeem.com/event/prattville-farmers-market-3/
END:VEVENT
BEGIN:VEVENT
DTSTART;TZID=America/Chicago:20250628T060000
DTEND;TZID=America/Chicago:20250628T060000
DTSTAMP:20260422T180516
CREATED:20250614T001346Z
LAST-MODIFIED:20250614T001346Z
UID:2424-1751090400-1751090400@emgeeem.com
SUMMARY:Sunrise Social Club
DESCRIPTION:
URL:https://emgeeem.com/event/sunrise-social-club-3/
LOCATION:Hilltop Public House\, 3 North Goldthwaite Street\, MONTGOMERY\, AL\, 36104\, United States
END:VEVENT
BEGIN:VEVENT
DTSTART;TZID=America/Chicago:20250627T190000
DTEND;TZID=America/Chicago:20250627T190000
DTSTAMP:20260422T180516
CREATED:20250614T001131Z
LAST-MODIFIED:20250614T001131Z
UID:2376-1751050800-1751050800@emgeeem.com
SUMMARY:Karaoke
DESCRIPTION:
URL:https://emgeeem.com/event/karaoke-2/
LOCATION:Hilltop Public House\, 3 North Goldthwaite Street\, MONTGOMERY\, AL\, 36104\, United States
END:VEVENT
BEGIN:VEVENT
DTSTART;TZID=America/Chicago:20250627T183500
DTEND;TZID=America/Chicago:20250627T213500
DTSTAMP:20260422T180516
CREATED:20250613T210600Z
LAST-MODIFIED:20250613T213354Z
UID:2224-1751049300-1751060100@emgeeem.com
SUMMARY:Korean Heritage Night @ The Montgomery Biscuits
DESCRIPTION:On Friday\, July 16th\, the Montgomery Biscuits will transform into the Montgomery Kimchi\, celebrating Korean Heritage Night pres. by Pulmuone! \nWhy Kimchi? We believe food is the gateway into culture. Just as Biscuits are a mainstay on a southern table\, Kimchi is a staple in Korean cuisine. \nWe’ve also partnered with A-KEEP\, the Alabama-Korean Education and Economic Partnership\, to incorporate elements of Korean culture into all elements of this game. A-KEEP works with members of the community to enable students\, professionals\, organizations and corporations of Alabama and Korea to take full advantage of the opportunities of growing economic ties between the two regions\, which are accomplished through A-KEEP’s leadership programs and facilitation efforts. \nThe Biscuits team will wear specialty on-field jerseys that will be auctioned off during the game\, with all proceeds benefitting A-KEEP.
URL:https://emgeeem.com/event/korean-heritage-night/
LOCATION:Montgomery Riverwalk Stadium\, 200 Coosa St\, MONTGOMERY\, AL\, 36104\, United States
END:VEVENT
BEGIN:VEVENT
DTSTART;TZID=America/Chicago:20250627T183000
DTEND;TZID=America/Chicago:20250627T203000
DTSTAMP:20260422T180516
CREATED:20250613T210306Z
LAST-MODIFIED:20250613T213038Z
UID:2219-1751049000-1751056200@emgeeem.com
SUMMARY:A Night of the Arts
DESCRIPTION:Get ready for Night of the Arts—a vibrant evening filled with rhythm\, movement\, and creativity! \n  \nEnjoy an exciting lineup of live music and dance\, from the smooth sounds of jazz to the fiery flair of tango and the high-energy beats of hip hop. There will also be free refreshments. \n  \nIt’s a night that celebrates the arts in every form—you won’t want to miss it! \n 
URL:https://emgeeem.com/event/a-night-of-the-arts/
LOCATION:The Learning Arts Center at The Armory\, 1018 Madison Avenue\, MONTGOMERY\, AL\, 36107\, United States
ORGANIZER;CN="The Learning Arts Center at The Armory":MAILTO:joebirdwell@gmail.com
END:VEVENT
BEGIN:VEVENT
DTSTART;TZID=America/Chicago:20250626T210000
DTEND;TZID=America/Chicago:20250626T210000
DTSTAMP:20260422T180516
CREATED:20250614T001131Z
LAST-MODIFIED:20250614T001131Z
UID:2375-1750971600-1750971600@emgeeem.com
SUMMARY:Retro Video Game Tournament
DESCRIPTION:
URL:https://emgeeem.com/event/retro-video-game-tournament-2/
LOCATION:Hilltop Public House\, 3 North Goldthwaite Street\, MONTGOMERY\, AL\, 36104\, United States
END:VEVENT
BEGIN:VEVENT
DTSTART;TZID=America/Chicago:20250626T175000
DTEND;TZID=America/Chicago:20250626T185000
DTSTAMP:20260422T180516
CREATED:20250613T210600Z
LAST-MODIFIED:20250613T225717Z
UID:2226-1750960200-1750963800@emgeeem.com
SUMMARY:Sips of Summer Wine Tasting
DESCRIPTION:
URL:https://emgeeem.com/event/sips-of-summer-wine-tasting/
LOCATION:Hilltop Public House\, 3 North Goldthwaite Street\, MONTGOMERY\, AL\, 36104\, United States
END:VEVENT
BEGIN:VEVENT
DTSTART;TZID=America/Chicago:20250626T110000
DTEND;TZID=America/Chicago:20250626T110000
DTSTAMP:20260422T180516
CREATED:20250613T210250Z
LAST-MODIFIED:20250614T010156Z
UID:2214-1750935600-1750935600@emgeeem.com
SUMMARY:Blind Contour Drawing with Rachel Sipper
DESCRIPTION:Join artist Rachel Sipper to learn blind contour drawing at the Coliseum Library. We’ll go over the practice of observation\, the definition of a contour\, and practice sketching your choice of still life objects without the pressure to copy the reference. All ages welcome\, and all skill levels.
URL:https://emgeeem.com/event/blind-contour-drawing-with-rachel-sipper/
LOCATION:Coliseum Boulevard Branch Library\, 840 Coliseum Boulevard\, MONTGOMERY\, AL\, 36109\, United States
END:VEVENT
BEGIN:VEVENT
DTSTART;TZID=America/Chicago:20250625T190000
DTEND;TZID=America/Chicago:20250625T190000
DTSTAMP:20260422T180516
CREATED:20250614T001130Z
LAST-MODIFIED:20250614T001131Z
UID:2374-1750878000-1750878000@emgeeem.com
SUMMARY:Open Mic Night
DESCRIPTION:
URL:https://emgeeem.com/event/open-mic-night-2/
LOCATION:Hilltop Public House\, 3 North Goldthwaite Street\, MONTGOMERY\, AL\, 36104\, United States
END:VEVENT
BEGIN:VEVENT
DTSTART;TZID=America/Chicago:20250624T183000
DTEND;TZID=America/Chicago:20250624T183000
DTSTAMP:20260422T180516
CREATED:20250614T001130Z
LAST-MODIFIED:20250614T001131Z
UID:2373-1750789800-1750789800@emgeeem.com
SUMMARY:Trivia Night
DESCRIPTION:
URL:https://emgeeem.com/event/trivia-night-2/
LOCATION:Hilltop Public House\, 3 North Goldthwaite Street\, MONTGOMERY\, AL\, 36104\, United States
END:VEVENT
BEGIN:VEVENT
DTSTART;TZID=America/Chicago:20250624T173000
DTEND;TZID=America/Chicago:20250624T183000
DTSTAMP:20260422T180516
CREATED:20250613T205927Z
LAST-MODIFIED:20250613T213841Z
UID:2204-1750786200-1750789800@emgeeem.com
SUMMARY:Painting with Plants\, led by Caylor Roling of EAT South
DESCRIPTION:
URL:https://emgeeem.com/event/painting-with-plants-led-by-caylor-roling-of-eat-south/
LOCATION:Montgomery Botanical Gardens\, 1010 Forest Ave\, MONTGOMERY\, AL\, 36106\, United States
END:VEVENT
BEGIN:VEVENT
DTSTART;TZID=America/Chicago:20250624T173000
DTEND;TZID=America/Chicago:20250624T183000
DTSTAMP:20260422T180516
CREATED:20250613T205555Z
LAST-MODIFIED:20250613T214019Z
UID:2163-1750786200-1750789800@emgeeem.com
SUMMARY:Barbara McQuade with Attack From Within - How Disinformation is Sabotaging America
DESCRIPTION:This talk should interest everyone. Seriously. Join us to listen to and learn from MSNBC legal analyst Barbara McQuade\, author of Attack from Within: How Disinformation Is Sabotaging America\, now in paperback. The book is an urgent\, comprehensive explanation of the ways disinformation is impacting democracy\, and practical solutions that can be pursued to strengthen the public\, media\, and truth-based politics. In the book\, McQuade breaks down the ways disinformation has become a tool to drive voters to extremes\, disempower our legal structures\, and consolidate power in the hands of the few. Eric Holder calls McQuade “a great public servant and one of the most acute observers of our time.” We are excited to host Barbara McQuade at The NewSouth Bookstore on Tuesday\, June 24 at 5:30pm. \n 
URL:https://emgeeem.com/event/barbara-mcquade-with-attack-from-within-how-disinformation-is-sabotaging-america/
LOCATION:The NewSouth Bookstore\, 105 S. Court Street\, MONTGOMERY\, AL\, 36104\, United States
END:VEVENT
BEGIN:VEVENT
DTSTART;TZID=America/Chicago:20250624T170000
DTEND;TZID=America/Chicago:20250624T170000
DTSTAMP:20260422T180516
CREATED:20250613T205724Z
LAST-MODIFIED:20250613T224522Z
UID:2194-1750784400-1750784400@emgeeem.com
SUMMARY:Music Bingo
DESCRIPTION:Hey there music lovers!\nGet ready to groove with summertime tunes at our Music Bingo Night!\nFrom classic 50’s hits to today’s summer anthems\, it’s gonna be a blast! Grab your friends and join us for a rockin’ good time.\nPrizes for winners!\nAdult Patrons 18+
URL:https://emgeeem.com/event/music-bingo/
LOCATION:Autauga Prattville Public Library\, 254 Doster St\, Prattville\, AL\, 36067\, United States
END:VEVENT
BEGIN:VEVENT
DTSTART;TZID=America/Chicago:20250623T180000
DTEND;TZID=America/Chicago:20250623T180000
DTSTAMP:20260422T180516
CREATED:20250614T001301Z
LAST-MODIFIED:20250614T001301Z
UID:2408-1750701600-1750701600@emgeeem.com
SUMMARY:Hilltop Happy Hour
DESCRIPTION:
URL:https://emgeeem.com/event/hilltop-happy-hour-2/
LOCATION:Hilltop Public House\, 3 North Goldthwaite Street\, MONTGOMERY\, AL\, 36104\, United States
END:VEVENT
BEGIN:VEVENT
DTSTART;TZID=America/Chicago:20250623T173000
DTEND;TZID=America/Chicago:20250623T210000
DTSTAMP:20260422T180516
CREATED:20250614T001130Z
LAST-MODIFIED:20250614T001131Z
UID:2372-1750699800-1750712400@emgeeem.com
SUMMARY:Table Top Night
DESCRIPTION:
URL:https://emgeeem.com/event/table-top-night-2/
LOCATION:Hilltop Public House\, 3 North Goldthwaite Street\, MONTGOMERY\, AL\, 36104\, United States
END:VEVENT
BEGIN:VEVENT
DTSTART;TZID=America/Chicago:20250623T173000
DTEND;TZID=America/Chicago:20250623T173000
DTSTAMP:20260422T180516
CREATED:20250614T001316Z
LAST-MODIFIED:20250614T001316Z
UID:2414-1750699800-1750699800@emgeeem.com
SUMMARY:Yoga
DESCRIPTION:
URL:https://emgeeem.com/event/yoga-2/
LOCATION:The Sanctuary\, 432 Goldthwaite St\, MONTGOMERY\, AL\, 36104\, United States
END:VEVENT
BEGIN:VEVENT
DTSTART;TZID=America/Chicago:20250623T173000
DTEND;TZID=America/Chicago:20250623T173000
DTSTAMP:20260422T180516
CREATED:20250614T001301Z
LAST-MODIFIED:20250614T001301Z
UID:2411-1750699800-1750699800@emgeeem.com
SUMMARY:Chess Club for K-13
DESCRIPTION:
URL:https://emgeeem.com/event/chess-club-for-k-13/
END:VEVENT
BEGIN:VEVENT
DTSTART;TZID=America/Chicago:20250621T130000
DTEND;TZID=America/Chicago:20250621T170000
DTSTAMP:20260422T180516
CREATED:20250613T210507Z
LAST-MODIFIED:20250613T223958Z
UID:2220-1750510800-1750525200@emgeeem.com
SUMMARY:Teen Pool Party
DESCRIPTION:Teens\, get your bathing suits ready! The Teen Pool Party ⛱ is coming up fast and we cannot wait until it gets here. Make sure to bring a towel\, some sunscreen and be ready for a super fun afternoon of pool fun!
URL:https://emgeeem.com/event/teen-pool-party/
LOCATION:Gunter Park Pool\, 2390 Cong W L Dickinson Dr\, MONTGOMERY\, AL\, 36109\, United States
END:VEVENT
BEGIN:VEVENT
DTSTART;TZID=America/Chicago:20250621T070000
DTEND;TZID=America/Chicago:20250621T070000
DTSTAMP:20260422T180516
CREATED:20250614T001331Z
LAST-MODIFIED:20250614T001331Z
UID:2419-1750489200-1750489200@emgeeem.com
SUMMARY:Prattville Farmers Market
DESCRIPTION:
URL:https://emgeeem.com/event/prattville-farmers-market-2/
END:VEVENT
BEGIN:VEVENT
DTSTART;TZID=America/Chicago:20250621T070000
DTEND;TZID=America/Chicago:20250621T070000
DTSTAMP:20260422T180516
CREATED:20250614T001331Z
LAST-MODIFIED:20250614T001331Z
UID:2420-1750489200-1750489200@emgeeem.com
SUMMARY:Eastchase Farmers Market
DESCRIPTION:
URL:https://emgeeem.com/event/eastchase-farmers-market-2/
END:VEVENT
BEGIN:VEVENT
DTSTART;TZID=America/Chicago:20250621T060000
DTEND;TZID=America/Chicago:20250621T060000
DTSTAMP:20260422T180516
CREATED:20250614T001331Z
LAST-MODIFIED:20250614T001331Z
UID:2421-1750485600-1750485600@emgeeem.com
SUMMARY:Sunrise Social Club
DESCRIPTION:
URL:https://emgeeem.com/event/sunrise-social-club-2/
LOCATION:Hilltop Public House\, 3 North Goldthwaite Street\, MONTGOMERY\, AL\, 36104\, United States
END:VEVENT
BEGIN:VEVENT
DTSTART;TZID=America/Chicago:20250620T193000
DTEND;TZID=America/Chicago:20250620T203000
DTSTAMP:20260422T180516
CREATED:20250613T205739Z
LAST-MODIFIED:20250613T214406Z
UID:2201-1750447800-1750451400@emgeeem.com
SUMMARY:Disney Dance Night
DESCRIPTION:
URL:https://emgeeem.com/event/disney-dance-night/
LOCATION:Strict Tempo Ballroom\, 436 Coliseum Blvd\, MONTGOMERY\, AL\, 36109\, United States
END:VEVENT
BEGIN:VEVENT
DTSTART;TZID=America/Chicago:20250620T190000
DTEND;TZID=America/Chicago:20250620T190000
DTSTAMP:20260422T180516
CREATED:20250614T001130Z
LAST-MODIFIED:20250614T001130Z
UID:2371-1750446000-1750446000@emgeeem.com
SUMMARY:Karaoke
DESCRIPTION:
URL:https://emgeeem.com/event/karaoke/
LOCATION:Hilltop Public House\, 3 North Goldthwaite Street\, MONTGOMERY\, AL\, 36104\, United States
END:VEVENT
BEGIN:VEVENT
DTSTART;TZID=America/Chicago:20250620T160000
DTEND;TZID=America/Chicago:20250621T000000
DTSTAMP:20260422T180516
CREATED:20250613T205640Z
LAST-MODIFIED:20250613T223439Z
UID:2184-1750435200-1750464000@emgeeem.com
SUMMARY:Friday Night Test and Tune (Slick-Prepped)
DESCRIPTION:
URL:https://emgeeem.com/event/friday-night-test-and-tune-slick-prepped/
LOCATION:Montgomery International Dragway\, 2600 N Belt Dr\, MONTGOMERY\, AL\, 36110\, United States
END:VEVENT
END:VCALENDAR