BEGIN:VCALENDAR
VERSION:2.0
PRODID:-//Em Gee Em - ECPv6.15.14//NONSGML v1.0//EN
CALSCALE:GREGORIAN
METHOD:PUBLISH
X-WR-CALNAME:Em Gee Em
X-ORIGINAL-URL:https://emgeeem.com
X-WR-CALDESC:Events for Em Gee Em
REFRESH-INTERVAL;VALUE=DURATION:PT1H
X-Robots-Tag:noindex
X-PUBLISHED-TTL:PT1H
BEGIN:VTIMEZONE
TZID:America/Chicago
BEGIN:DAYLIGHT
TZOFFSETFROM:-0600
TZOFFSETTO:-0500
TZNAME:CDT
DTSTART:20240310T080000
END:DAYLIGHT
BEGIN:STANDARD
TZOFFSETFROM:-0500
TZOFFSETTO:-0600
TZNAME:CST
DTSTART:20241103T070000
END:STANDARD
BEGIN:DAYLIGHT
TZOFFSETFROM:-0600
TZOFFSETTO:-0500
TZNAME:CDT
DTSTART:20250309T080000
END:DAYLIGHT
BEGIN:STANDARD
TZOFFSETFROM:-0500
TZOFFSETTO:-0600
TZNAME:CST
DTSTART:20251102T070000
END:STANDARD
BEGIN:DAYLIGHT
TZOFFSETFROM:-0600
TZOFFSETTO:-0500
TZNAME:CDT
DTSTART:20260308T080000
END:DAYLIGHT
BEGIN:STANDARD
TZOFFSETFROM:-0500
TZOFFSETTO:-0600
TZNAME:CST
DTSTART:20261101T070000
END:STANDARD
END:VTIMEZONE
BEGIN:VEVENT
DTSTART;TZID=America/Chicago:20250903T120000
DTEND;TZID=America/Chicago:20250903T130000
DTSTAMP:20260421T210507
CREATED:20250821T233420Z
LAST-MODIFIED:20250821T233420Z
UID:2707-1756900800-1756904400@emgeeem.com
SUMMARY:Lunch & Learn: All About Citrus
DESCRIPTION:Dr. Chip East will be with us to speak on the different varieties of citrus we can grow and how to care for them in central Alabama.
URL:https://emgeeem.com/event/lunch-learn-all-about-citrus/
LOCATION:The Learning Arts Center at The Armory\, 1018 Madison Avenue\, MONTGOMERY\, AL\, 36107\, United States
END:VEVENT
BEGIN:VEVENT
DTSTART;TZID=America/Chicago:20250831T180000
DTEND;TZID=America/Chicago:20250831T220000
DTSTAMP:20260421T210507
CREATED:20250821T233625Z
LAST-MODIFIED:20250821T234124Z
UID:2705-1756663200-1756677600@emgeeem.com
SUMMARY:Red Tails Classic
DESCRIPTION:Join us August 30 for the Red Tails Classic \nShowcasing Historically Black Colleges and Universities –\nin honor of the Tuskegee Airmen who fought in World War II. \n  \n 
URL:https://emgeeem.com/event/red-tails-classic/
LOCATION:Multiplex at Cramton Bowl\, 220 Hall St\, MONTGOMERY\, AL\, 36104\, United States
END:VEVENT
BEGIN:VEVENT
DTSTART;VALUE=DATE:20250831
DTEND;VALUE=DATE:20250902
DTSTAMP:20260421T210507
CREATED:20250821T233731Z
LAST-MODIFIED:20250821T233731Z
UID:2704-1756598400-1756771199@emgeeem.com
SUMMARY:Golden Hour Festival
DESCRIPTION:A range of events all weekend! Sunset activities\, races\, live music & more!
URL:https://emgeeem.com/event/golden-hour-festival/
LOCATION:Montgomery Whitewater\, 1100 Maxwell Blvd\, Montgomery\, AL\, 36104\, United States
END:VEVENT
BEGIN:VEVENT
DTSTART;TZID=America/Chicago:20250830T180500
DTEND;TZID=America/Chicago:20250830T180500
DTSTAMP:20260421T210507
CREATED:20250821T233755Z
LAST-MODIFIED:20250821T233755Z
UID:2700-1756577100-1756577100@emgeeem.com
SUMMARY:Family Faith Night
DESCRIPTION:Enjoy faith-based music and games throughout the night! Fireworks after the game.
URL:https://emgeeem.com/event/family-faith-night/
LOCATION:Montgomery Riverwalk Stadium\, 200 Coosa St\, MONTGOMERY\, AL\, 36104\, United States
END:VEVENT
BEGIN:VEVENT
DTSTART;TZID=America/Chicago:20250830T180000
DTEND;TZID=America/Chicago:20250830T220000
DTSTAMP:20260421T210507
CREATED:20250821T233839Z
LAST-MODIFIED:20250821T233839Z
UID:2701-1756576800-1756591200@emgeeem.com
SUMMARY:Red Tails Pep Rally
DESCRIPTION:Join us August 30 for the Red Tails Classic Pep Rally on Commerce Street near Riverfront Park! \nWe’ll kick off with a salute to the Red Tails / 187th Fighter Wing\, then rally with Tuskegee University and Winston-Salem State. Expect live music\, food trucks\, games\, and a powerful tribute to the Tuskegee Airmen — including a P-51 display! \nDon’t miss out on this night of celebration\, history\, and fun!
URL:https://emgeeem.com/event/red-tails-pep-rally/
LOCATION:Riverfront Park\, 355 Commerce Street\, MONTGOMERY\, AL\, 36104\, United States
END:VEVENT
BEGIN:VEVENT
DTSTART;TZID=America/Chicago:20250830T150000
DTEND;TZID=America/Chicago:20250830T160000
DTSTAMP:20260421T210507
CREATED:20250821T234307Z
LAST-MODIFIED:20250821T234332Z
UID:2703-1756566000-1756569600@emgeeem.com
SUMMARY:Black Angels Over Tuskegee
DESCRIPTION:Inspired by true events\, Black Angels Over Tuskegee is a vibrantly energetic\, emotionally captivating\, award-winning drama that tells the story of six trail-blazing men who exhibited courage to excel in spite of overwhelming odds. The play follows the collective struggle of the first African American aviators in the United States Army Air Forces as they overcame Jim Crow-era injustices with intelligence\, patriotism and brotherhood as they worked towards their dreams of an inclusive and fair society.
URL:https://emgeeem.com/event/black-angels-over-tuskegee/
LOCATION:Davis Theatre for the Performing Arts\, 251 Montgomery St\, Montgomery\, AL\, 36104\, United States
END:VEVENT
BEGIN:VEVENT
DTSTART;TZID=America/Chicago:20250830T100000
DTEND;TZID=America/Chicago:20250830T140000
DTSTAMP:20260421T210507
CREATED:20250821T234454Z
LAST-MODIFIED:20250821T234505Z
UID:2702-1756548000-1756562400@emgeeem.com
SUMMARY:11th Annual Stuff the Truck Food Drive
DESCRIPTION:We’re collecting non-perishable food items to support Montgomery Public Schools. See the attached flyer for our full shopping list. \nTypical Backpack Contents:\nBreakfast items:\nOatmeal\, grits\, cereal/multigrain bars\, breakfast cookies\, boxed fruit juice or milk.\nLunch items:\nCanned pasta\, canned tuna\, soup\, mac and cheese\, baked beans\, vegetables\, chili\, beef stew\, ravioli\, canned carrots\, and green beans.\nSnacks:\nCrackers\, craisins\, raisins\, dried fruit\, peanut butter and jelly\, trail mix\, nuts\, pretzels\, squeezy fruit\, applesauce\, mandarin oranges\, pudding cups and bottled water. \n 
URL:https://emgeeem.com/event/11th-annual-stuff-the-truck-food-drive/
LOCATION:Winn-Dixie at Sturbridge Village Center\, 7946 Vaughn Road\, MONTGOMERY\, AL\, 36116\, United States
ORGANIZER;CN="Stuff the Truck MGM":MAILTO:Info@tieanddoll.org
END:VEVENT
BEGIN:VEVENT
DTSTART;TZID=America/Chicago:20250826T173000
DTEND;TZID=America/Chicago:20250826T190000
DTSTAMP:20260421T210507
CREATED:20250821T234541Z
LAST-MODIFIED:20250821T234541Z
UID:2699-1756229400-1756234800@emgeeem.com
SUMMARY:Ralph Ellis with The Accident Report
DESCRIPTION:Author/journalist Ralph Ellis joins us at The NewSouth Bookstore for what will surely be a most enjoyable program tied to his new novel\, titled The Accident Report. The story is set in 1974 in North Carolina. It stars Ronald Truluck\, a rookie reporter who is inspired by Watergate and hopes to uncover a scandal to make his bones as a reporter. It won’t be easy. The paper he works for\, The Millerton Eagle\, runs pet-of-the-week pictures on the front page\, not corruption stories. And Ronald is a stoner who’s loosey-goosey with the facts. With a little help from his friends\, he finally lands the story—but with results nobody expected. Come listen to Ellis spin a yarn or two about his new book and how he came to write it. (Hint: He’s been a working journalist.) Tuesday\, August 26 at 5:30pm.
URL:https://emgeeem.com/event/ralph-ellis-with-the-accident-report/
LOCATION:The NewSouth Bookstore\, 105 S. Court Street\, MONTGOMERY\, AL\, 36104\, United States
END:VEVENT
BEGIN:VEVENT
DTSTART;TZID=America/Chicago:20250823T180000
DTEND;TZID=America/Chicago:20250823T180000
DTSTAMP:20260421T210507
CREATED:20250821T234910Z
LAST-MODIFIED:20250821T234910Z
UID:2697-1755972000-1755972000@emgeeem.com
SUMMARY:Saturday of Speed 125
DESCRIPTION:The summer heats up with the Saturday of Speed 125! This event brings a thrilling Pro Late Model 125-lap showdown\, a 40-lap Black Sheep Woodlands Late Model Sportsman race\, plus 72 laps of action from Shelby Concrete Street Stocks to celebrate 72 years of racing at Montgomery Motor Speedway! It’s a night of nonstop racing that you do not want to miss!
URL:https://emgeeem.com/event/saturday-of-speed-125/
LOCATION:Montgomery Motor Speedway\, 480 Booth Rd\, Montgomery\, AL\, 36104\, United States
ORGANIZER;CN="Montgomery Motor Speedway":MAILTO:gm@montgomerymotorspeedway.com
END:VEVENT
BEGIN:VEVENT
DTSTART;TZID=America/Chicago:20250823T180000
DTEND;TZID=America/Chicago:20250823T180000
DTSTAMP:20260421T210507
CREATED:20250821T234712Z
LAST-MODIFIED:20250821T234727Z
UID:2695-1755972000-1755972000@emgeeem.com
SUMMARY:FCS Kick-Off
DESCRIPTION:The 11th FCS Kickoff\, featuring UC – Davis and Mercer\, will be shown on ESPN. \nThe FCS Kickoff dates back to the 2014 season. The first three games were played at campus sites. ESPN Events then brought the game to Montgomery in 2017. This is the eighth FCS Kickoff played at the Historic Cramton Bowl. \n  \nMercer will be making its second appearance. UC – Davis is making its debut in the event and will be the 17th different team to play in the FCS Kickoff. \n  \nAll seats are General Admission. \n  \nMercer – East Side – Sections N-S \nUC – Davis – Press Box Side – Sections A-G
URL:https://emgeeem.com/event/fcs-kick-off/
LOCATION:Multiplex at Cramton Bowl\, 220 Hall St\, MONTGOMERY\, AL\, 36104\, United States
END:VEVENT
BEGIN:VEVENT
DTSTART;TZID=America/Chicago:20250823T134500
DTEND;TZID=America/Chicago:20250823T230000
DTSTAMP:20260421T210507
CREATED:20250821T235200Z
LAST-MODIFIED:20250821T235200Z
UID:2694-1755956700-1755990000@emgeeem.com
SUMMARY:Hog Days of Summer
DESCRIPTION:The Druids Charity Club is pleased to announce the 8th annual BBQ and Americana Music festival! The Hog Days of Summer is a charity event benefitting Hogs for the Cause and other carefully selected local charities.\n Music Lineup:Our best lineup yet will be rocking the shed; spanning blues\, rock\, soul\, country\, roots\, and other Americana influences.\nBrent CobbNeal FrancisThe Soul RebelsKanika Moore and the Brown Eyed BoisBlues Old Stand\nBBQ:Once again\, our patrons can look forward to enjoying BBQ from the River Region’s finest BBQ establishments. More information to come soon.\nSchedule:Doors: 1:45 PM.BBQ: upon entry.Music: 2:00 PM-9:00 PM\nTickets:General Admission: $20\nActive Military/Police/Fire/EMS/Student GA Ticket**: $10\nVIP Ticket: $250. Very limited supply.Private Discounted Cash bar\,Private bathroomsPrivate SeatingSide of stage viewsFood options available
URL:https://emgeeem.com/event/hog-days-of-summer/
LOCATION:Union Station Train Shed\, 300 Water St\, Montgomery\, AL\, 36104\, United States
END:VEVENT
BEGIN:VEVENT
DTSTART;TZID=America/Chicago:20250823T120000
DTEND;TZID=America/Chicago:20250823T160000
DTSTAMP:20260421T210507
CREATED:20250821T235255Z
LAST-MODIFIED:20250821T235255Z
UID:2696-1755950400-1755964800@emgeeem.com
SUMMARY:Local Authors Day
DESCRIPTION:The event showcases the amazing writing talent in our greater metro Montgomery region. Meet authors writing fiction\, nonfiction\, children’s books\, self-help and inspirational titles\, and more. It’ll be festive and fun!
URL:https://emgeeem.com/event/local-authors-day/
LOCATION:The NewSouth Bookstore\, 105 S. Court Street\, MONTGOMERY\, AL\, 36104\, United States
END:VEVENT
BEGIN:VEVENT
DTSTART;TZID=America/Chicago:20250823T100000
DTEND;TZID=America/Chicago:20250823T120000
DTSTAMP:20260421T210507
CREATED:20250821T235413Z
LAST-MODIFIED:20250821T235413Z
UID:2698-1755943200-1755950400@emgeeem.com
SUMMARY:Magical Creatures
DESCRIPTION:Meet some of the magical animals that are featured in the movies like Harry Potter and The Hobbit. You will get a chance to meet these animals up close\, learn about them in their habitats\, and take home some special prizes for yourself. \nMagical Creatures is a combination of fun-filled and insightful educational program packed with: \n\na classroom lesson plan\nmaking a little magic\nlive animal presentations\, and\neveryone leaves with a take-home\, keepsake goody bag.\n\n\nEvent fee: RESERVE YOUR SPOT TODAY!!\n— Montgomery Zoo member: Accompanying adults*: FREE\, Children (4-12 years old): $21\n— Non-Zoo member: Accompanying adults*: $19\, Children (4-12 years old): $35\n     — Advanced reservations required. All participants must be registered no later than Friday\, August 22 @ 12pm (noon). This allows the opportunity to prepare for the proper number of participants.  Thank you for your cooperation. NO TICKETS WILL BE SOLD AT THE DOOR ON THE DAY OF THE EVENT!  \n* Important note for accompanying adults.\nAll child participant(s) must have at least one accompanying adult with them.\nAll accompanying adults must also register when making reservation for child participant(s). \n——————————— \nFor additional information concerning Magical Creatures\, please contact our Education Department at \n\n(334) 625-4909 or\nemail at zooinfo@montgomeryal.gov\n\nAdvanced reservations are required.  
URL:https://emgeeem.com/event/magical-creatures/
LOCATION:Montgomery Zoo & Mann Museum\, 2301 Coliseum Parkway\, Montgomery\, AL\, 36110\, United States
END:VEVENT
BEGIN:VEVENT
DTSTART;TZID=America/Chicago:20250821T170000
DTEND;TZID=America/Chicago:20250821T200000
DTSTAMP:20260421T210507
CREATED:20250821T235525Z
LAST-MODIFIED:20250821T235534Z
UID:2693-1755795600-1755806400@emgeeem.com
SUMMARY:K-Prodigy BTS Back to School Night
DESCRIPTION:Get ready\, ARMY! We’re excited to announce the return of our annual BTS Back To School Night\, happening Thursday\, August 21\, 2025 from 5:00pm to 8:00pm at Mr. Tea N Bites in Montgomery! This fun-filled evening will feature a raffle packed with BTS goodies donated by some amazing vendors\, a high-energy random dance play\, fun games\, and a DIY cover page station where you can create your own school binder insert inspired by your favorite group!
URL:https://emgeeem.com/event/k-prodigy-bts-back-to-school-night/
LOCATION:Mr. Tea N Bites\, 6633 Atlanta Hwy\, Montgomery\, AL\, 36117\, United States
ORGANIZER;CN="K-Prodigy%2C LLC":MAILTO:kprodigyllc@gmail.com
END:VEVENT
BEGIN:VEVENT
DTSTART;TZID=America/Chicago:20250817T150000
DTEND;TZID=America/Chicago:20250817T170000
DTSTAMP:20260421T210507
CREATED:20250816T200517Z
LAST-MODIFIED:20250816T200517Z
UID:2570-1755442800-1755450000@emgeeem.com
SUMMARY:Pickup Ultimate
DESCRIPTION:Pickup Ultimate at Audobon Park from 3-5 on Sundays.  All levels welcome.  Bring a white and dark shirt and water.  Check the Montgomery Ultimate Facebook page for information and weather cancellations.  Tournament and league information available on www.montgomeryultimate.com.
URL:https://emgeeem.com/event/pickup-ultimate-4/
LOCATION:Audobon Park\, 3174 Cloverdale Road\, Montgomery\, 36106
END:VEVENT
BEGIN:VEVENT
DTSTART;TZID=America/Chicago:20250810T150000
DTEND;TZID=America/Chicago:20250810T170000
DTSTAMP:20260421T210507
CREATED:20250806T043132Z
LAST-MODIFIED:20250806T043132Z
UID:2543-1754838000-1754845200@emgeeem.com
SUMMARY:Pickup Ultimate
DESCRIPTION:Pickup Ultimate at Audobon Park.  All levels welcome.  Bring a white and dark shirt and water.  Details on other pickup opportunities and any weather cancellations at the Montgomery Ultimate Facebook page.  For upcoming tournament and league play\, go to http://www.montgomeryultimate.com.
URL:https://emgeeem.com/event/pickup-ultimate-3/
LOCATION:Audobon Park\, 3174 Cloverdale Road\, Montgomery\, 36106
END:VEVENT
BEGIN:VEVENT
DTSTART;TZID=America/Chicago:20250808T120000
DTEND;TZID=America/Chicago:20250808T130000
DTSTAMP:20260421T210507
CREATED:20250613T205739Z
LAST-MODIFIED:20250613T232732Z
UID:2203-1754654400-1754658000@emgeeem.com
SUMMARY:Lunch & Learn: Shade Gardening
DESCRIPTION:Mary McCroan\, Advanced Master Gardener will show you how to brighten up shady corners of your landscape with plants that will do well and thrive in that environment. \nThe Alabama Cooperative Extension System (Alabama A&M University and Auburn University) is an equal opportunity educator\, employer\, and provider. If you need a reasonable accommodation or free language access services\, contact Montgomery County Extension at 334-245-8053 or jones57@aces.edu by 7/16/2025.
URL:https://emgeeem.com/event/lunch-learn-shade-gardening/
LOCATION:The Learning Arts Center at The Armory\, 1018 Madison Avenue\, MONTGOMERY\, AL\, 36107\, United States
END:VEVENT
BEGIN:VEVENT
DTSTART;TZID=America/Chicago:20250803T150000
DTEND;TZID=America/Chicago:20250803T170000
DTSTAMP:20260421T210507
CREATED:20250729T140056Z
LAST-MODIFIED:20250729T140056Z
UID:2534-1754233200-1754240400@emgeeem.com
SUMMARY:Pickup Ultimate
DESCRIPTION:Pickup Ultimate.  All levels are welcome.  Check the Montgomery Ultimate Facebook page for updates on opportunities to play and any weather cancellations. Email capitalcityultimate@gmail.com for any questions.
URL:https://emgeeem.com/event/pickup-ultimate-2/
LOCATION:Audobon Park\, 3174 Cloverdale Road\, Montgomery\, 36106
END:VEVENT
BEGIN:VEVENT
DTSTART;TZID=America/Chicago:20250802T180000
DTEND;TZID=America/Chicago:20250802T220000
DTSTAMP:20260421T210507
CREATED:20250711T152004Z
LAST-MODIFIED:20250711T152004Z
UID:2502-1754157600-1754172000@emgeeem.com
SUMMARY:Montgomery’s Biscuits Korean Heritage Night
DESCRIPTION:Each year\, ALIEEP partner with the Montgomery Biscuits Baseball and Pulmuone to  co-host Korean Heritage Night – a vibrant celebration of Montgomery’s Korean community. The event features cultural performances between innings\, community engagement activities\, and even a fun twist where the Biscuits rebranding as the Montgomery Kimchi for the evening! It’s a memorable and festive occasion that draws a diverse audience from across the region. \nPlease use the link: https://bit.ly/45TMF50 in order to get discounted tickets
URL:https://emgeeem.com/event/montgomerys-biscuits-korean-heritage-night/
LOCATION:Montgomery Riverwalk Stadium\, 200 Coosa St\, MONTGOMERY\, AL\, 36104\, United States
ATTACH;FMTTYPE=image/png:https://emgeeem.com/wp-content/uploads/2025/07/Grand-Final-5.png
END:VEVENT
BEGIN:VEVENT
DTSTART;TZID=America/Chicago:20250802T100000
DTEND;TZID=America/Chicago:20250802T120000
DTSTAMP:20260421T210507
CREATED:20250613T213102Z
LAST-MODIFIED:20250613T213102Z
UID:2090-1754128800-1754136000@emgeeem.com
SUMMARY:Writing Workshop: The Hermit Crab Essay
DESCRIPTION:Like hermit crabs\, this type of essay relies on resourcefulness to find new and exciting shells. Learn how to tell stories (both true and imagined) through unconventional formats (ex: shopping lists\, application forms). Students will view examples\, workshop their ideas\, and then create their own hermit crab essay. At the end of the workshop\, students will have the option to share their drafts in a supportive environment to receive generative feedback.  Resources will be provided for publication venues. Students will have the opportunity to be included in a student chapbook and participate in a student reading at the end of the season.
URL:https://emgeeem.com/event/writing-workshop-the-hermit-crab-essay/
LOCATION:The Learning Arts Center at The Armory\, 1018 Madison Avenue\, MONTGOMERY\, AL\, 36107\, United States
ORGANIZER;CN="The Learning Arts Center at The Armory":MAILTO:joebirdwell@gmail.com
END:VEVENT
BEGIN:VEVENT
DTSTART;TZID=America/Chicago:20250801T190000
DTEND;TZID=America/Chicago:20250801T190000
DTSTAMP:20260421T210507
CREATED:20250614T001246Z
LAST-MODIFIED:20250614T001246Z
UID:2406-1754074800-1754074800@emgeeem.com
SUMMARY:Karaoke
DESCRIPTION:
URL:https://emgeeem.com/event/karaoke-7/
LOCATION:Hilltop Public House\, 3 North Goldthwaite Street\, MONTGOMERY\, AL\, 36104\, United States
END:VEVENT
BEGIN:VEVENT
DTSTART;TZID=America/Chicago:20250731T210000
DTEND;TZID=America/Chicago:20250731T210000
DTSTAMP:20260421T210507
CREATED:20250614T001246Z
LAST-MODIFIED:20250614T001246Z
UID:2405-1753995600-1753995600@emgeeem.com
SUMMARY:Retro Video Game Tournament
DESCRIPTION:
URL:https://emgeeem.com/event/retro-video-game-tournament-7/
LOCATION:Hilltop Public House\, 3 North Goldthwaite Street\, MONTGOMERY\, AL\, 36104\, United States
END:VEVENT
BEGIN:VEVENT
DTSTART;TZID=America/Chicago:20250730T190000
DTEND;TZID=America/Chicago:20250730T190000
DTSTAMP:20260421T210507
CREATED:20250614T001246Z
LAST-MODIFIED:20250614T001246Z
UID:2404-1753902000-1753902000@emgeeem.com
SUMMARY:Open Mic Night
DESCRIPTION:
URL:https://emgeeem.com/event/open-mic-night-7/
LOCATION:Hilltop Public House\, 3 North Goldthwaite Street\, MONTGOMERY\, AL\, 36104\, United States
END:VEVENT
BEGIN:VEVENT
DTSTART;TZID=America/Chicago:20250729T183000
DTEND;TZID=America/Chicago:20250729T183000
DTSTAMP:20260421T210507
CREATED:20250614T001246Z
LAST-MODIFIED:20250614T001246Z
UID:2403-1753813800-1753813800@emgeeem.com
SUMMARY:Trivia Night
DESCRIPTION:
URL:https://emgeeem.com/event/trivia-night-7/
LOCATION:Hilltop Public House\, 3 North Goldthwaite Street\, MONTGOMERY\, AL\, 36104\, United States
END:VEVENT
BEGIN:VEVENT
DTSTART;TZID=America/Chicago:20250729T180000
DTEND;TZID=America/Chicago:20250729T200000
DTSTAMP:20260421T210507
CREATED:20250711T151928Z
LAST-MODIFIED:20250711T151928Z
UID:2488-1753812000-1753819200@emgeeem.com
SUMMARY:Moonbeam: A Staged Story Reading
DESCRIPTION:On July 29th and 30th in historic Cottage Hill\, travel to the world of Freedom through a live\, staged reading of a short story published in Spring 2024. \nSet in 1935 in the Black community of Freedom\, Alabama\, Moonbeam describes the night a Blues singer named Twilight Hawkins and a hairdresser named Miss Mabel Pugh bore witness to tragedy and in it found common ground\, an unlikely friendship\, and an answer to their prayers. Themes explore race\, lynching\, and the bonds and burdens of Black womanhood. \nThis is a chance to meet the author and connect with local artists and musicians amidst art\, dessert and drinks\, and live music. \nAdmission includes: \n\nA Staged Reading of Moonbeam featuring Professional Actors\nA Signed Copy of Moonbeam\nArt Show featuring Work by Local Artists\nLive music and Delicious Refreshments\nClosing Discussion with the Author\n\nJoin us for this special night in Montgomery…and what we hope will be your first of many trips to Freedom.
URL:https://emgeeem.com/event/moonbeam-a-staged-story-reading/
LOCATION:The Sanctuary\, 432 Goldthwaite St\, MONTGOMERY\, AL\, 36104\, United States
ATTACH;FMTTYPE=image/jpeg:https://emgeeem.com/wp-content/uploads/2025/07/moonbeam-reading-2.jpg
ORGANIZER;CN="Freedom Words and Deeds LLC":MAILTO:jenn@jraetay.com
END:VEVENT
BEGIN:VEVENT
DTSTART;TZID=America/Chicago:20250728T173000
DTEND;TZID=America/Chicago:20250728T210000
DTSTAMP:20260421T210507
CREATED:20250614T001246Z
LAST-MODIFIED:20250614T001246Z
UID:2402-1753723800-1753736400@emgeeem.com
SUMMARY:Table Top Night
DESCRIPTION:
URL:https://emgeeem.com/event/table-top-night-7/
LOCATION:Hilltop Public House\, 3 North Goldthwaite Street\, MONTGOMERY\, AL\, 36104\, United States
END:VEVENT
BEGIN:VEVENT
DTSTART;TZID=America/Chicago:20250726T100000
DTEND;TZID=America/Chicago:20250726T130000
DTSTAMP:20260421T210507
CREATED:20250613T210306Z
LAST-MODIFIED:20250613T232255Z
UID:2218-1753524000-1753534800@emgeeem.com
SUMMARY:Back to School Bash
DESCRIPTION:The City of Montgomery Parks and Recreation Department is excited to announce its partnership with C.H.A.N.G.E.\, Ty Talks and Young Men on a Mission for the annual Back to School Bash on Saturday\, July 26\, 2025\, from 10 a.m. to 1 p.m. This free event aims to prepare local youths for the upcoming school year and has become a cherished tradition in the community. \nThe Back to School Bash will feature a variety of activities and resources designed to support students and their families. Attendees can look forward to school supply giveaways (children must be present)\, bike raffles\, inflatables\, games\, free food\, information booths\, and vendors offering a range of fun goodies and prizes. \nFor more information or to make a donation\, please call 334-245-3966 or 334-625-2300 or email info@changealabama.org. Join us in making this year’s Back to School Bash another memorable event for our youth!
URL:https://emgeeem.com/event/back-to-school-bash/
LOCATION:Multiplex at Cramton Bowl\, 220 Hall St\, MONTGOMERY\, AL\, 36104\, United States
END:VEVENT
BEGIN:VEVENT
DTSTART;TZID=America/Chicago:20250725T190000
DTEND;TZID=America/Chicago:20250725T190000
DTSTAMP:20260421T210507
CREATED:20250614T001231Z
LAST-MODIFIED:20250614T001231Z
UID:2401-1753470000-1753470000@emgeeem.com
SUMMARY:Karaoke
DESCRIPTION:
URL:https://emgeeem.com/event/karaoke-6/
LOCATION:Hilltop Public House\, 3 North Goldthwaite Street\, MONTGOMERY\, AL\, 36104\, United States
END:VEVENT
BEGIN:VEVENT
DTSTART;TZID=America/Chicago:20250724T210000
DTEND;TZID=America/Chicago:20250724T210000
DTSTAMP:20260421T210507
CREATED:20250614T001231Z
LAST-MODIFIED:20250614T001231Z
UID:2400-1753390800-1753390800@emgeeem.com
SUMMARY:Retro Video Game Tournament
DESCRIPTION:
URL:https://emgeeem.com/event/retro-video-game-tournament-6/
LOCATION:Hilltop Public House\, 3 North Goldthwaite Street\, MONTGOMERY\, AL\, 36104\, United States
END:VEVENT
BEGIN:VEVENT
DTSTART;TZID=America/Chicago:20250724T173000
DTEND;TZID=America/Chicago:20250724T183000
DTSTAMP:20260421T210507
CREATED:20250613T205555Z
LAST-MODIFIED:20250613T211024Z
UID:2165-1753378200-1753381800@emgeeem.com
SUMMARY:Honoree Fanonne Jeffers with Misbehaving at the Crossroads
DESCRIPTION:We’ve only waited years to welcome Honorée Fanonne Jeffers at The NewSouth Bookstore. On Thursday\, July 24 at 5:30pm she visits with her new book\, Misbehaving at the Crossroads. Ms. Jeffers will be in conversation with Montgomery’s own Dr. Jacqueline Allen Trimble. The New York Times-bestselling\, National Book Award-nominated author of The Love Songs of W.E.B. Du Bois and The Age of Phillis makes her nonfiction debut with this personal and thought-provoking collection of essays that explores the journeys and possibilities of Black women throughout American history and in contemporary times. Necessary and sharply observed\, and full of the insight and brilliance that has characterized her poetry and fiction\, Misbehaving at the Crossroads illustrates the life of one extraordinary Black woman—and her extraordinary foremothers. Come be with us for this special event. \n 
URL:https://emgeeem.com/event/honoree-fanonne-jeffers-with-misbehaving-at-the-crossroads/
LOCATION:The NewSouth Bookstore\, 105 S. Court Street\, MONTGOMERY\, AL\, 36104\, United States
END:VEVENT
END:VCALENDAR