BEGIN:VCALENDAR
VERSION:2.0
PRODID:-//Em Gee Em - ECPv6.15.14//NONSGML v1.0//EN
CALSCALE:GREGORIAN
METHOD:PUBLISH
X-WR-CALNAME:Em Gee Em
X-ORIGINAL-URL:https://emgeeem.com
X-WR-CALDESC:Events for Em Gee Em
REFRESH-INTERVAL;VALUE=DURATION:PT1H
X-Robots-Tag:noindex
X-PUBLISHED-TTL:PT1H
BEGIN:VTIMEZONE
TZID:America/Chicago
BEGIN:DAYLIGHT
TZOFFSETFROM:-0600
TZOFFSETTO:-0500
TZNAME:CDT
DTSTART:20240310T080000
END:DAYLIGHT
BEGIN:STANDARD
TZOFFSETFROM:-0500
TZOFFSETTO:-0600
TZNAME:CST
DTSTART:20241103T070000
END:STANDARD
BEGIN:DAYLIGHT
TZOFFSETFROM:-0600
TZOFFSETTO:-0500
TZNAME:CDT
DTSTART:20250309T080000
END:DAYLIGHT
BEGIN:STANDARD
TZOFFSETFROM:-0500
TZOFFSETTO:-0600
TZNAME:CST
DTSTART:20251102T070000
END:STANDARD
BEGIN:DAYLIGHT
TZOFFSETFROM:-0600
TZOFFSETTO:-0500
TZNAME:CDT
DTSTART:20260308T080000
END:DAYLIGHT
BEGIN:STANDARD
TZOFFSETFROM:-0500
TZOFFSETTO:-0600
TZNAME:CST
DTSTART:20261101T070000
END:STANDARD
END:VTIMEZONE
BEGIN:VEVENT
DTSTART;TZID=America/Chicago:20251213T080000
DTEND;TZID=America/Chicago:20251214T170000
DTSTAMP:20260421T132530
CREATED:20251126T100651Z
LAST-MODIFIED:20251126T100651Z
UID:3060-1765612800-1765731600@emgeeem.com
SUMMARY:Uncle Kringle’s Christmas Classic XVI
DESCRIPTION:Montgomery Ultimate’s 16th Anniversary of the beloved Uncle Kringle’s Christmas Classic!  \nDecember 13-14\, 2025\n16 Team Spots\n\nMixed Tournament 4:3\n$300 Bid Fee Payable to\nVenmo @CapitalCityUltimate\nPayPal: capitalcityultimate@gmail.com\n\nEmory Folmar YMCA Soccer Complex\n300 Brown Springs Rd\, Montgomery\, AL 36117\n\nQuestions? Email: capitalcityultimate@gmail.com\nSign up at https://docs.google.com/forms/d/e/1FAIpQLSexaI1m53kHutrgzSM6voqO6ipFbwHBhbtioExe_sXaPGafSA/viewform.
URL:https://emgeeem.com/event/uncle-kringles-christmas-classic-xvi/
LOCATION:Emory Folmar YMCA Soccer Complex\, 300 Brown Springs Road\, MONTGOMERY\, AL\, 36117\, United States
END:VEVENT
END:VCALENDAR