BEGIN:VCALENDAR
VERSION:2.0
PRODID:-//Em Gee Em - ECPv6.15.14//NONSGML v1.0//EN
CALSCALE:GREGORIAN
METHOD:PUBLISH
X-WR-CALNAME:Em Gee Em
X-ORIGINAL-URL:https://emgeeem.com
X-WR-CALDESC:Events for Em Gee Em
REFRESH-INTERVAL;VALUE=DURATION:PT1H
X-Robots-Tag:noindex
X-PUBLISHED-TTL:PT1H
BEGIN:VTIMEZONE
TZID:America/Chicago
BEGIN:DAYLIGHT
TZOFFSETFROM:-0600
TZOFFSETTO:-0500
TZNAME:CDT
DTSTART:20240310T080000
END:DAYLIGHT
BEGIN:STANDARD
TZOFFSETFROM:-0500
TZOFFSETTO:-0600
TZNAME:CST
DTSTART:20241103T070000
END:STANDARD
BEGIN:DAYLIGHT
TZOFFSETFROM:-0600
TZOFFSETTO:-0500
TZNAME:CDT
DTSTART:20250309T080000
END:DAYLIGHT
BEGIN:STANDARD
TZOFFSETFROM:-0500
TZOFFSETTO:-0600
TZNAME:CST
DTSTART:20251102T070000
END:STANDARD
BEGIN:DAYLIGHT
TZOFFSETFROM:-0600
TZOFFSETTO:-0500
TZNAME:CDT
DTSTART:20260308T080000
END:DAYLIGHT
BEGIN:STANDARD
TZOFFSETFROM:-0500
TZOFFSETTO:-0600
TZNAME:CST
DTSTART:20261101T070000
END:STANDARD
END:VTIMEZONE
BEGIN:VEVENT
DTSTART;TZID=America/Chicago:20251108T093000
DTEND;TZID=America/Chicago:20251108T093000
DTSTAMP:20260421T145359
CREATED:20250821T221844Z
LAST-MODIFIED:20250821T222206Z
UID:2754-1762594200-1762594200@emgeeem.com
SUMMARY:Yellowhammer Roller Rumble 2025
DESCRIPTION:Join us for the inaugural Yellowhammer Roller Rumble\, a statewide roller derby event! All five Alabama roller derby teams come together for a weekend-long round-robin tournament.\n10 games\, plus a juniors mixer Saturday night\nPARTICIPATING TEAMS:Montgomery Roller Derby | Montgomery\, ALDruid City Derby | Tuscaloosa\, ALRocket City Roller Derby | Huntsville\, ALMobile Bay Roller Derby | Mobile\, ALTragic City Rollers | Birmingham\, AL\nGames to be 40 minutes long.\nContact: yhrrtournament@gmail.com
URL:https://emgeeem.com/event/yellowhammer-roller-rumble-2025/
LOCATION:Multiplex at Cramton Bowl\, 220 Hall St\, MONTGOMERY\, AL\, 36104\, United States
END:VEVENT
END:VCALENDAR