BEGIN:VCALENDAR
VERSION:2.0
PRODID:-//Em Gee Em - ECPv6.15.14//NONSGML v1.0//EN
CALSCALE:GREGORIAN
METHOD:PUBLISH
X-ORIGINAL-URL:https://emgeeem.com
X-WR-CALDESC:Events for Em Gee Em
REFRESH-INTERVAL;VALUE=DURATION:PT1H
X-Robots-Tag:noindex
X-PUBLISHED-TTL:PT1H
BEGIN:VTIMEZONE
TZID:America/Chicago
BEGIN:DAYLIGHT
TZOFFSETFROM:-0600
TZOFFSETTO:-0500
TZNAME:CDT
DTSTART:20240310T080000
END:DAYLIGHT
BEGIN:STANDARD
TZOFFSETFROM:-0500
TZOFFSETTO:-0600
TZNAME:CST
DTSTART:20241103T070000
END:STANDARD
BEGIN:DAYLIGHT
TZOFFSETFROM:-0600
TZOFFSETTO:-0500
TZNAME:CDT
DTSTART:20250309T080000
END:DAYLIGHT
BEGIN:STANDARD
TZOFFSETFROM:-0500
TZOFFSETTO:-0600
TZNAME:CST
DTSTART:20251102T070000
END:STANDARD
BEGIN:DAYLIGHT
TZOFFSETFROM:-0600
TZOFFSETTO:-0500
TZNAME:CDT
DTSTART:20260308T080000
END:DAYLIGHT
BEGIN:STANDARD
TZOFFSETFROM:-0500
TZOFFSETTO:-0600
TZNAME:CST
DTSTART:20261101T070000
END:STANDARD
END:VTIMEZONE
BEGIN:VEVENT
DTSTART;VALUE=DATE:20251009
DTEND;VALUE=DATE:20251020
DTSTAMP:20260421T161739
CREATED:20250821T225222Z
LAST-MODIFIED:20250821T225309Z
UID:2736-1759968000-1760918399@emgeeem.com
SUMMARY:The Book of Will
DESCRIPTION:Without William Shakespeare\, we wouldn’t have literary masterpieces like Romeo and Juliet. But without Henry Condell and John Heminges\, we would have lost half of Shakespeare’s plays forever! After the death of their friend and mentor\, the two actors are determined to compile the First Folio and preserve the words that shaped their lives. They’ll just have to borrow\, beg\, and band together to get it done. Amidst the noise and color of Elizabethan London\, The Book Of Will finds an unforgettable true story of love\, loss\, and laughter\, and sheds new light on a man you may think you know.
URL:https://emgeeem.com/event/the-book-of-will/
LOCATION:The Cloverdale Playhouse\, 960 Cloverdale Rd\, MONTGOMERY\, AL\, 36106\, United States
END:VEVENT
BEGIN:VEVENT
DTSTART;TZID=America/Chicago:20251017T130000
DTEND;TZID=America/Chicago:20251019T190000
DTSTAMP:20260421T161739
CREATED:20250821T224403Z
LAST-MODIFIED:20250821T224403Z
UID:2741-1760706000-1760900400@emgeeem.com
SUMMARY:The Alabama Foodees Food and Culture Festival
DESCRIPTION:Foodees Food & Culture Festival is coming to the Wind Creek Casino & Hotel in Montgomery\, Alabama for an unforgettable three-day celebration of flavor\, community\, and creativity! This festival is all about discovering bold eats\, supporting small businesses\, and spending time with your favorite people in a fun\, family-friendly setting. \n​ \nWhether you’re a passionate foodie\, a curious traveler\, or just someone who loves a good time\, Foodees has something delicious and exciting waiting for you: \n​ \n🍽️ 40+ Food Trucks & Vendors\nFrom gourmet street eats and global flavors to comfort food favorites and sweet treats—there’s something for every craving. \n​ \n🛍️ Local Artisans & Crafters\nBrowse handmade art\, crafts\, jewelry\, gifts\, and one-of-a-kind goods from creative vendors all across the region. \n​ \n🌟 Community & Culture\nCelebrate the spirit of Montgomery through food\, creativity\, and connection. Meet the chefs\, makers\, and festival-goers who bring this amazing event to life. \n​ \nAdmission\n🎟️ FREE for everyone!Register now for your free ticket and get access to vendor announcements\, event reminders\, and exclusive festival updates. \nWalk-ups are welcome\, but early registration helps our vendors better prepare—and gets you in faster! \n​ \nFestival Hours\nFriday\, Oct. 17: 1:00 PM – 9:00 PMSaturday\, Oct. 18: 11:00 AM – 9:00 PMSunday\, Oct. 19: 11:00 AM – 7:00 PM \n(We recommend arriving early to beat the crowds and get first dibs on your favorite eats!) \n​ \nParking & Directions\n🚗 Directions to Wind Creek Casino & Hotel – MontgomeryAddress: 1801 Eddie L. Tullis Rd.\, Montgomery\, AL 36117 \nFree parking is available on-site. Look for event signage upon arrival. \n​ \nWhat to Expect\n✅ Family-Friendly Fun – All ages are welcome!✅ Outdoor Event – Rain or shine—come prepared for the weather✅ Pay As You Go – Entry is free\, but food and goods are sold individually \n​ \nWant to Be a Vendor?\nInterested in showcasing your food truck or artisan booth?📧 Email: booking@foodeesfest.com🌐 Visit: www.foodeesfest.com \n​ \nContact Information\n🌐 Website: www.foodeesfest.com📧 Email: info@foodeesfest.com📞 Phone: 1-(877) 909-FEST📱 Social: @foodeesfest \n​ \nDisclaimers\n🚫 No outside food or drinks—please support our amazing vendors!🐾 Please check Wind Creek Casino’s pet policy before bringing animals.📸 By attending\, you consent to photography and video recording for promotional use. \n​ \nRegistration / Tickets\n🎟️ Grab Your Free Tickets Now!Click “Register” to reserve your spot and receive all the latest event updates.Show your digital or printed ticket at check-in for fast\, easy entry. \nWe can’t wait to welcome you to Foodees Food & Culture Festival in Montgomery\, AL!Come hungry\, bring your friends\, and get ready for an unforgettable weekend full of food\, flavor\, and fun! 🍽️🔥🎡
URL:https://emgeeem.com/event/the-alabama-foodees-food-and-culture-festival/
LOCATION:Wind Creek Casino Montgomery\, 1801 Eddie L. Tullis Road\, Montgomery\, AL\, 36117\, United States
END:VEVENT
BEGIN:VEVENT
DTSTART;TZID=America/Chicago:20251019T093000
DTEND;TZID=America/Chicago:20251019T163000
DTSTAMP:20260421T161739
CREATED:20250821T223009Z
LAST-MODIFIED:20250821T223009Z
UID:2745-1760866200-1760891400@emgeeem.com
SUMMARY:ZooBrews and Food Festival
DESCRIPTION:Join us for fall day of tailgating fun and follies: a yummy assortment of food trucks\, beer and wine vendors\, live bands and entertainment\, large lawn games to play\, and much more. Great time to bring lawn chairs and blankets\, enjoy the food\, beverages\, music\, and play a few games\, all under the canopy of the Montgomery Zoo. Awesome time spend with family and friends enjoying a great casual afternoon.
URL:https://emgeeem.com/event/zoobrews-and-food-festival/
LOCATION:Montgomery Zoo & Mann Museum\, 2301 Coliseum Parkway\, Montgomery\, AL\, 36110\, United States
END:VEVENT
END:VCALENDAR