BEGIN:VCALENDAR
VERSION:2.0
PRODID:-//Em Gee Em - ECPv6.15.14//NONSGML v1.0//EN
CALSCALE:GREGORIAN
METHOD:PUBLISH
X-ORIGINAL-URL:https://emgeeem.com
X-WR-CALDESC:Events for Em Gee Em
REFRESH-INTERVAL;VALUE=DURATION:PT1H
X-Robots-Tag:noindex
X-PUBLISHED-TTL:PT1H
BEGIN:VTIMEZONE
TZID:America/Chicago
BEGIN:DAYLIGHT
TZOFFSETFROM:-0600
TZOFFSETTO:-0500
TZNAME:CDT
DTSTART:20240310T080000
END:DAYLIGHT
BEGIN:STANDARD
TZOFFSETFROM:-0500
TZOFFSETTO:-0600
TZNAME:CST
DTSTART:20241103T070000
END:STANDARD
BEGIN:DAYLIGHT
TZOFFSETFROM:-0600
TZOFFSETTO:-0500
TZNAME:CDT
DTSTART:20250309T080000
END:DAYLIGHT
BEGIN:STANDARD
TZOFFSETFROM:-0500
TZOFFSETTO:-0600
TZNAME:CST
DTSTART:20251102T070000
END:STANDARD
BEGIN:DAYLIGHT
TZOFFSETFROM:-0600
TZOFFSETTO:-0500
TZNAME:CDT
DTSTART:20260308T080000
END:DAYLIGHT
BEGIN:STANDARD
TZOFFSETFROM:-0500
TZOFFSETTO:-0600
TZNAME:CST
DTSTART:20261101T070000
END:STANDARD
END:VTIMEZONE
BEGIN:VEVENT
DTSTART;TZID=America/Chicago:20251001T100000
DTEND;TZID=America/Chicago:20251004T160000
DTSTAMP:20260421T161733
CREATED:20250821T225527Z
LAST-MODIFIED:20250821T225527Z
UID:2732-1759312800-1759593600@emgeeem.com
SUMMARY:Third Annual Sidewalk Sale
DESCRIPTION:Our third annual Sidewalk Sale — bigger and even better this year — happens rain or shine starting on Wednesday\, October 1 and running through Saturday\, October 4. Thousands of books priced at an unbelievable $5\, $3\, and $1 are rolled out to our patio for your browsing pleasure. Come find treasures old and new!
URL:https://emgeeem.com/event/third-annual-sidewalk-sale/
LOCATION:The NewSouth Bookstore\, 105 S. Court Street\, MONTGOMERY\, AL\, 36104\, United States
END:VEVENT
BEGIN:VEVENT
DTSTART;TZID=America/Chicago:20251004T180000
DTEND;TZID=America/Chicago:20251004T180000
DTSTAMP:20260421T161733
CREATED:20250821T225416Z
LAST-MODIFIED:20250821T225416Z
UID:2734-1759600800-1759600800@emgeeem.com
SUMMARY:The Morehouse Tuskegee Classic
DESCRIPTION:Get ready for one of the longest-running HBCU football rivalries in the nation. The Morehouse Tuskegee Classic debuts in Montgomery\, AL\, bringing 85 years of gridiron tradition and 118 years of Tiger vs. Tiger pride to Cramton Bowl Stadium. This annual faceoff between the Golden Tigers of Tuskegee and the Maroon Tigers of Morehouse is more than just a game—it’s a celebration of family\, legacy\, and student-athlete excellence.
URL:https://emgeeem.com/event/the-morehouse-tuskegee-classic/
LOCATION:Multiplex at Cramton Bowl\, 220 Hall St\, MONTGOMERY\, AL\, 36104\, United States
END:VEVENT
END:VCALENDAR