BEGIN:VCALENDAR
VERSION:2.0
PRODID:-//Em Gee Em - ECPv6.15.14//NONSGML v1.0//EN
CALSCALE:GREGORIAN
METHOD:PUBLISH
X-WR-CALNAME:Em Gee Em
X-ORIGINAL-URL:https://emgeeem.com
X-WR-CALDESC:Events for Em Gee Em
REFRESH-INTERVAL;VALUE=DURATION:PT1H
X-Robots-Tag:noindex
X-PUBLISHED-TTL:PT1H
BEGIN:VTIMEZONE
TZID:America/Chicago
BEGIN:DAYLIGHT
TZOFFSETFROM:-0600
TZOFFSETTO:-0500
TZNAME:CDT
DTSTART:20240310T080000
END:DAYLIGHT
BEGIN:STANDARD
TZOFFSETFROM:-0500
TZOFFSETTO:-0600
TZNAME:CST
DTSTART:20241103T070000
END:STANDARD
BEGIN:DAYLIGHT
TZOFFSETFROM:-0600
TZOFFSETTO:-0500
TZNAME:CDT
DTSTART:20250309T080000
END:DAYLIGHT
BEGIN:STANDARD
TZOFFSETFROM:-0500
TZOFFSETTO:-0600
TZNAME:CST
DTSTART:20251102T070000
END:STANDARD
BEGIN:DAYLIGHT
TZOFFSETFROM:-0600
TZOFFSETTO:-0500
TZNAME:CDT
DTSTART:20260308T080000
END:DAYLIGHT
BEGIN:STANDARD
TZOFFSETFROM:-0500
TZOFFSETTO:-0600
TZNAME:CST
DTSTART:20261101T070000
END:STANDARD
END:VTIMEZONE
BEGIN:VEVENT
DTSTART;TZID=America/Chicago:20250921T150000
DTEND;TZID=America/Chicago:20250921T170000
DTSTAMP:20260421T173352
CREATED:20250916T223531Z
LAST-MODIFIED:20250916T223531Z
UID:2899-1758466800-1758474000@emgeeem.com
SUMMARY:Pickup Ultimate
DESCRIPTION:Come play Pickup Ultimate.  Every Sunday at 3:00 p.m. at Audobon Park.  All levels are welcome.  Bring a white and dark shirt and water.  Visit www.montgomeryultimate.com for tournament opportunities and the Montgomery Ultimate Facebook page for pickup opportunities and rain cancellations.
URL:https://emgeeem.com/event/pickup-ultimate-5/
LOCATION:Audobon Park\, 3174 Cloverdale Road\, Montgomery\, 36106
END:VEVENT
END:VCALENDAR