BEGIN:VCALENDAR
VERSION:2.0
PRODID:-//Em Gee Em - ECPv6.15.14//NONSGML v1.0//EN
CALSCALE:GREGORIAN
METHOD:PUBLISH
X-ORIGINAL-URL:https://emgeeem.com
X-WR-CALDESC:Events for Em Gee Em
REFRESH-INTERVAL;VALUE=DURATION:PT1H
X-Robots-Tag:noindex
X-PUBLISHED-TTL:PT1H
BEGIN:VTIMEZONE
TZID:America/Chicago
BEGIN:DAYLIGHT
TZOFFSETFROM:-0600
TZOFFSETTO:-0500
TZNAME:CDT
DTSTART:20240310T080000
END:DAYLIGHT
BEGIN:STANDARD
TZOFFSETFROM:-0500
TZOFFSETTO:-0600
TZNAME:CST
DTSTART:20241103T070000
END:STANDARD
BEGIN:DAYLIGHT
TZOFFSETFROM:-0600
TZOFFSETTO:-0500
TZNAME:CDT
DTSTART:20250309T080000
END:DAYLIGHT
BEGIN:STANDARD
TZOFFSETFROM:-0500
TZOFFSETTO:-0600
TZNAME:CST
DTSTART:20251102T070000
END:STANDARD
BEGIN:DAYLIGHT
TZOFFSETFROM:-0600
TZOFFSETTO:-0500
TZNAME:CDT
DTSTART:20260308T080000
END:DAYLIGHT
BEGIN:STANDARD
TZOFFSETFROM:-0500
TZOFFSETTO:-0600
TZNAME:CST
DTSTART:20261101T070000
END:STANDARD
END:VTIMEZONE
BEGIN:VEVENT
DTSTART;VALUE=DATE:20250727
DTEND;VALUE=DATE:20250915
DTSTAMP:20260421T173613
CREATED:20250821T235509Z
LAST-MODIFIED:20250821T235509Z
UID:2692-1753574400-1757894399@emgeeem.com
SUMMARY:Side Quests Art Exhibit
DESCRIPTION:Winfred Hawkins started drawing at an early age. He developed his drafting skills by watching his father and copying animals from nature books. “I was basically a copying machine. I would draw just about anything you put in front of me.” \nWhile in high school\, he was commissioned by the Troy University Rosa Parks Museum in Montgomery\, Alabama to design 10 bronze roundels for the outside of the museum. He completed the project after graduating from Savannah College of Art and Design. Winfred has been working as a graphic designer since 2007. \nAfter suffering from a nerve injury in 2012\, affecting both arms\, he has considerably changed his style to incorporate the use of both hands. Winfred mostly uses his non-dominant\, right hand\, for sketching\, but sometimes paints an entire work. The left hand he reserves for work that is more involved\, in style\, as well as subject matter. With this technique\, Winfred creates original characters\, incorporating them into his own unique mythology and art style.
URL:https://emgeeem.com/event/side-quests-art-exhibit/
LOCATION:Montgomery Museum of Fine Arts\, 1 Museum Dr\, Montgomery\, AL\, 36117\, United States
END:VEVENT
BEGIN:VEVENT
DTSTART;TZID=America/Chicago:20250914T190000
DTEND;TZID=America/Chicago:20250914T190000
DTSTAMP:20260421T173613
CREATED:20250821T231821Z
LAST-MODIFIED:20250821T231821Z
UID:2719-1757876400-1757876400@emgeeem.com
SUMMARY:The Rainbow Chorus goes to the Movies!
DESCRIPTION:The Rainbow Chorus goes to the Movies! a concert romp through the music of the cinema!\nEnjoy music from a dozen of your favorite Hollywood movies – not particularly musicals – as the Rainbow Chorus revisits songs that made it onto the pop charts! It will be an entertaining evening with lots of surprises and a little bit of crazy! \nTwo Presentations\n• Sunday\, September 14th\, 2025\, 7 p.m.\, Immanuel Presbyterian Church\, 8790 Vaughn Road\, Montgomery 36117\n• Sunday\, September 21st\, 2025\, 7 p.m.\, Holy Comforter Episcopal Church\, 2911 Woodley Road\, Montgomery 36111 \nFree Admission\, Open to the Public – please consider bringing a canned good/pantry staple to benefit the food pantry for the needy \nPresented by the River Region Rainbow Chorus\, an adult inclusive community chorus composed of LGBTQ+\, family\, friends and like-minded individuals with the purposes of affirming positive perceptions of LGBTQ+ persons; combating fear and hatred; encouraging compassion; celebrating life; and making good music!
URL:https://emgeeem.com/event/the-rainbow-chorus-goes-to-the-movies/
LOCATION:Immanuel Presbyterian Church\, 8790 Vaughn Rd\, Montgomery\, AL\, 36117\, United States
ORGANIZER;CN="River Region Rainbow Chorus":MAILTO:RiverRegionRainbowChorus@gmail.com
END:VEVENT
END:VCALENDAR