BEGIN:VCALENDAR
VERSION:2.0
PRODID:-//Em Gee Em - ECPv6.15.14//NONSGML v1.0//EN
CALSCALE:GREGORIAN
METHOD:PUBLISH
X-WR-CALNAME:Em Gee Em
X-ORIGINAL-URL:https://emgeeem.com
X-WR-CALDESC:Events for Em Gee Em
REFRESH-INTERVAL;VALUE=DURATION:PT1H
X-Robots-Tag:noindex
X-PUBLISHED-TTL:PT1H
BEGIN:VTIMEZONE
TZID:America/Chicago
BEGIN:DAYLIGHT
TZOFFSETFROM:-0600
TZOFFSETTO:-0500
TZNAME:CDT
DTSTART:20240310T080000
END:DAYLIGHT
BEGIN:STANDARD
TZOFFSETFROM:-0500
TZOFFSETTO:-0600
TZNAME:CST
DTSTART:20241103T070000
END:STANDARD
BEGIN:DAYLIGHT
TZOFFSETFROM:-0600
TZOFFSETTO:-0500
TZNAME:CDT
DTSTART:20250309T080000
END:DAYLIGHT
BEGIN:STANDARD
TZOFFSETFROM:-0500
TZOFFSETTO:-0600
TZNAME:CST
DTSTART:20251102T070000
END:STANDARD
BEGIN:DAYLIGHT
TZOFFSETFROM:-0600
TZOFFSETTO:-0500
TZNAME:CDT
DTSTART:20260308T080000
END:DAYLIGHT
BEGIN:STANDARD
TZOFFSETFROM:-0500
TZOFFSETTO:-0600
TZNAME:CST
DTSTART:20261101T070000
END:STANDARD
END:VTIMEZONE
BEGIN:VEVENT
DTSTART;VALUE=DATE:20250727
DTEND;VALUE=DATE:20250915
DTSTAMP:20260421T174221
CREATED:20250821T235509Z
LAST-MODIFIED:20250821T235509Z
UID:2692-1753574400-1757894399@emgeeem.com
SUMMARY:Side Quests Art Exhibit
DESCRIPTION:Winfred Hawkins started drawing at an early age. He developed his drafting skills by watching his father and copying animals from nature books. “I was basically a copying machine. I would draw just about anything you put in front of me.” \nWhile in high school\, he was commissioned by the Troy University Rosa Parks Museum in Montgomery\, Alabama to design 10 bronze roundels for the outside of the museum. He completed the project after graduating from Savannah College of Art and Design. Winfred has been working as a graphic designer since 2007. \nAfter suffering from a nerve injury in 2012\, affecting both arms\, he has considerably changed his style to incorporate the use of both hands. Winfred mostly uses his non-dominant\, right hand\, for sketching\, but sometimes paints an entire work. The left hand he reserves for work that is more involved\, in style\, as well as subject matter. With this technique\, Winfred creates original characters\, incorporating them into his own unique mythology and art style.
URL:https://emgeeem.com/event/side-quests-art-exhibit/
LOCATION:Montgomery Museum of Fine Arts\, 1 Museum Dr\, Montgomery\, AL\, 36117\, United States
END:VEVENT
BEGIN:VEVENT
DTSTART;TZID=America/Chicago:20250912T100000
DTEND;TZID=America/Chicago:20250913T170000
DTSTAMP:20260421T174221
CREATED:20250821T232738Z
LAST-MODIFIED:20250821T232738Z
UID:2713-1757671200-1757782800@emgeeem.com
SUMMARY:Fall Festival
DESCRIPTION:Fall Festival is a free event that celebrates Montgomery\, Alabama’s vibrant creative culture\, featuring both local and regional artists from all backgrounds. This free public event features an art market with more than 30 vendors\, live music\, art demos\, food trucks\, and tastings with local brewers. The Artist Market is an integral part of Fall Festival; booths feature fine arts and crafts for sale made locally in the River Region. \nThis year\, Fall Festival’s theme will be Alabama art\, in connection to the Alabama: A to Z exhibition of work by talented artists from all around the state. All artists will live in and make in Alabama. In addition to event festivities\, artists with work on view in the Alabama: A to Z will be on site from 11 AM to 1 PM\, sharing stories about their work in the galleries. \nThis event is rain or shine; in the case of inclement weather\, activities will be moved indoors.
URL:https://emgeeem.com/event/fall-festival/
LOCATION:Montgomery Museum of Fine Arts\, 1 Museum Dr\, Montgomery\, AL\, 36117\, United States
END:VEVENT
BEGIN:VEVENT
DTSTART;TZID=America/Chicago:20250913T100000
DTEND;TZID=America/Chicago:20250913T150000
DTSTAMP:20260421T174221
CREATED:20250821T232244Z
LAST-MODIFIED:20250821T232313Z
UID:2717-1757757600-1757775600@emgeeem.com
SUMMARY:Thrift N Thrive
DESCRIPTION:Come out and shop\, sip and snack.We’ll have new and used things\, yummy treats and fun for all!vendors email theriothairstudio@gmail.com
URL:https://emgeeem.com/event/thrift-n-thrive/
LOCATION:The RIOT Salon\, 412 N Hull St\, Montgomery\, AL\, 36104\, United States
END:VEVENT
BEGIN:VEVENT
DTSTART;TZID=America/Chicago:20250913T180000
DTEND;TZID=America/Chicago:20250913T200000
DTSTAMP:20260421T174221
CREATED:20250821T231930Z
LAST-MODIFIED:20250821T232101Z
UID:2718-1757786400-1757793600@emgeeem.com
SUMMARY:8th Annual Catini Party
DESCRIPTION:It’s almost time for our favorite feline festivity of the year! \n\n\nJoin us for the 8th Annual Catini Party — a purrfect evening of fun\, food\, and feline charm! \n\n\n Date: Saturday\, September 13\, 2025\n\n\n Time: 6–8 PM\n\n\n Location: Montgomery Humane Society\n\n\nTickets: $20\n\n\nEnjoy party food\, drinks\, and a silent auction\, all while surrounded by plenty of purrs & kitty kisses. Your support helps us continue caring for the cats (and dogs!) who need us most.\n\n\nSponsored by HMMA\, Jennie Weller Catering & Events\, and Three Olives Vodka.\n\n\nDon’t miss this meow-velous night! Grab your tickets today and help us make a difference — one paw at a time.
URL:https://emgeeem.com/event/8th-annual-catini-party/
LOCATION:Montgomery Humane Society\, 1150 John Overton Dr.\, MONTGOMERY\, AL\, 36110\, United States
END:VEVENT
END:VCALENDAR