BEGIN:VCALENDAR
VERSION:2.0
PRODID:-//Em Gee Em - ECPv6.15.14//NONSGML v1.0//EN
CALSCALE:GREGORIAN
METHOD:PUBLISH
X-WR-CALNAME:Em Gee Em
X-ORIGINAL-URL:https://emgeeem.com
X-WR-CALDESC:Events for Em Gee Em
REFRESH-INTERVAL;VALUE=DURATION:PT1H
X-Robots-Tag:noindex
X-PUBLISHED-TTL:PT1H
BEGIN:VTIMEZONE
TZID:America/Chicago
BEGIN:DAYLIGHT
TZOFFSETFROM:-0600
TZOFFSETTO:-0500
TZNAME:CDT
DTSTART:20240310T080000
END:DAYLIGHT
BEGIN:STANDARD
TZOFFSETFROM:-0500
TZOFFSETTO:-0600
TZNAME:CST
DTSTART:20241103T070000
END:STANDARD
BEGIN:DAYLIGHT
TZOFFSETFROM:-0600
TZOFFSETTO:-0500
TZNAME:CDT
DTSTART:20250309T080000
END:DAYLIGHT
BEGIN:STANDARD
TZOFFSETFROM:-0500
TZOFFSETTO:-0600
TZNAME:CST
DTSTART:20251102T070000
END:STANDARD
BEGIN:DAYLIGHT
TZOFFSETFROM:-0600
TZOFFSETTO:-0500
TZNAME:CDT
DTSTART:20260308T080000
END:DAYLIGHT
BEGIN:STANDARD
TZOFFSETFROM:-0500
TZOFFSETTO:-0600
TZNAME:CST
DTSTART:20261101T070000
END:STANDARD
END:VTIMEZONE
BEGIN:VEVENT
DTSTART;VALUE=DATE:20250727
DTEND;VALUE=DATE:20250915
DTSTAMP:20260421T173352
CREATED:20250821T235509Z
LAST-MODIFIED:20250821T235509Z
UID:2692-1753574400-1757894399@emgeeem.com
SUMMARY:Side Quests Art Exhibit
DESCRIPTION:Winfred Hawkins started drawing at an early age. He developed his drafting skills by watching his father and copying animals from nature books. “I was basically a copying machine. I would draw just about anything you put in front of me.” \nWhile in high school\, he was commissioned by the Troy University Rosa Parks Museum in Montgomery\, Alabama to design 10 bronze roundels for the outside of the museum. He completed the project after graduating from Savannah College of Art and Design. Winfred has been working as a graphic designer since 2007. \nAfter suffering from a nerve injury in 2012\, affecting both arms\, he has considerably changed his style to incorporate the use of both hands. Winfred mostly uses his non-dominant\, right hand\, for sketching\, but sometimes paints an entire work. The left hand he reserves for work that is more involved\, in style\, as well as subject matter. With this technique\, Winfred creates original characters\, incorporating them into his own unique mythology and art style.
URL:https://emgeeem.com/event/side-quests-art-exhibit/
LOCATION:Montgomery Museum of Fine Arts\, 1 Museum Dr\, Montgomery\, AL\, 36117\, United States
END:VEVENT
BEGIN:VEVENT
DTSTART;VALUE=DATE:20250902
DTEND;VALUE=DATE:20250913
DTSTAMP:20260421T173352
CREATED:20250821T233520Z
LAST-MODIFIED:20250821T233528Z
UID:2706-1756771200-1757721599@emgeeem.com
SUMMARY:Make and Take Calligraphy
DESCRIPTION:Join ALIEEP for a two-week culturally enriching experience. The “Make and Event” has arrived\, with this year’s theme being “calligraphy.” Starting September 2\, 2025\, visit the first floor of the Alabama Center for Commerce building for an all-day art exhibition showcasing local artists from different backgrounds and ethnic groups. Also\, we are hosting workshops at local churches and schools. ALIEEP never ceases to promote community engagement and world connectiveness.
URL:https://emgeeem.com/event/make-and-take-calligraphy/
LOCATION:Alabama Center for Commerce\, 401 Adams Ave\, Montgomery\, AL\, 36104\, United States
END:VEVENT
BEGIN:VEVENT
DTSTART;TZID=America/Chicago:20250906T100000
DTEND;TZID=America/Chicago:20250906T150000
DTSTAMP:20260421T173352
CREATED:20250821T233351Z
LAST-MODIFIED:20250821T233351Z
UID:2708-1757152800-1757170800@emgeeem.com
SUMMARY:Animal Enrichment Day
DESCRIPTION:Join the Montgomery Zoo Saturday\, September 6\, 10am – 3pm\, for Animal Enrichment Day.  Join a tour of the Zoo during our enrichment event and observe how animals respond to an assortment of new creative and behavior-stimulating enrichment items.  We will visit over 20 different animals displays during the course of the event\, and see what transpires and what we learn. \nEnrichment is all about providing our animals with both physical and cognitive stimuli that is natural to their behavior in the wild. Virtual or not\, we will remain true to that methodology.  Animal enrichment is not always about providing a reward or a treat. The goal is to try to stimulate a behavior that would normally be found naturally in that species. So foraging animals would find searching for nuts\, seeds\, fruits\, as a good enrichment; however\, providing the same item to a predator may result negatively. \nAt the Montgomery Zoo\, we house a variety of species\, of all different shapes and sizes\, from all over the world. To guarantee that these animals have the best care possible\, we ensure they have a clean habitat\, fresh food and water\, and that they are receiving the proper healthcare needed. We also offer the animals plenty of what the zoological field calls enrichment. Enrichment can be defined as anything that improves or enhances the quality and value of the animals’ lives. The goal in offering animals enrichment is to encourage natural behaviors and entice them to interact with new and exciting objects that will stimulate them physically and mentally. Enrichment can be categorized as sensory\, social\, cognitive\, physical habitat\, or food related. Some examples of enrichment are puzzle feeders\, spices\, sounds\, browse (plant material)\, new benches/perches\, and even zookeeper/animal training. \nThe needs of the animals can be as unique as the animal itself. Some animals need to be stimulated mentally for instance primates. In the wild\, primates will use “tools” to help them achieve tasks such as finding food or retrieving insects out of dirt mounds or trees. Other animals need to be stimulated physically to make sure they are staying in shape and healthy. We can offer them fun toys that encourage them to run\, jump\, swim\, or climb to get them moving. Some animals have extraordinary senses: such as sight\, smell\, or hearing.  If an animal has a really good sense of smell we can hide fun scents for them to search for and find. \nZookeepers give the animals enrichment daily\, but we also have special events called Enrichment Days where the public get to see animals interact with enrichment up close and personal. Even humans can be enriched\, and what better way to do so than to come out and see amazing animals having fun. So make sure you mark your calendars\, you do not want to miss it! \nColoring Outside the Lines with Enrichment! \nAnimal Enrichment Day schedule \n10am: Ring-Tailed Lemur\n \n10:15am: Pygmy Hippopotamus \n10:30am: Common Marmoset \n10:45am: Giant Anteater \n11am: Jaguar \n11:15am: African Spurred Tortoise \n11:30am: Bison \n11:45am: Bald Eagle \nLUNCH BREAK 12-1pm (Enrichment Day activities at the Overlook Café) \n1pm: Africa Aviary \n1:15pm: Giraffe/Ground Hornbill \n1:30pm: African Savanna Hoofstock \n1:45pm: Siamang \n2pm: African Elephant \n2:15pm: Greater One Horned Rhinoceros \n2:30pm: Bengal Tiger \n2:45pm: Pygmy Hippopotamus
URL:https://emgeeem.com/event/animal-enrichment-day/
LOCATION:Montgomery Zoo & Mann Museum\, 2301 Coliseum Parkway\, Montgomery\, AL\, 36110\, United States
END:VEVENT
END:VCALENDAR