BEGIN:VCALENDAR
VERSION:2.0
PRODID:-//Em Gee Em - ECPv6.15.14//NONSGML v1.0//EN
CALSCALE:GREGORIAN
METHOD:PUBLISH
X-ORIGINAL-URL:https://emgeeem.com
X-WR-CALDESC:Events for Em Gee Em
REFRESH-INTERVAL;VALUE=DURATION:PT1H
X-Robots-Tag:noindex
X-PUBLISHED-TTL:PT1H
BEGIN:VTIMEZONE
TZID:America/Chicago
BEGIN:DAYLIGHT
TZOFFSETFROM:-0600
TZOFFSETTO:-0500
TZNAME:CDT
DTSTART:20240310T080000
END:DAYLIGHT
BEGIN:STANDARD
TZOFFSETFROM:-0500
TZOFFSETTO:-0600
TZNAME:CST
DTSTART:20241103T070000
END:STANDARD
BEGIN:DAYLIGHT
TZOFFSETFROM:-0600
TZOFFSETTO:-0500
TZNAME:CDT
DTSTART:20250309T080000
END:DAYLIGHT
BEGIN:STANDARD
TZOFFSETFROM:-0500
TZOFFSETTO:-0600
TZNAME:CST
DTSTART:20251102T070000
END:STANDARD
BEGIN:DAYLIGHT
TZOFFSETFROM:-0600
TZOFFSETTO:-0500
TZNAME:CDT
DTSTART:20260308T080000
END:DAYLIGHT
BEGIN:STANDARD
TZOFFSETFROM:-0500
TZOFFSETTO:-0600
TZNAME:CST
DTSTART:20261101T070000
END:STANDARD
END:VTIMEZONE
BEGIN:VEVENT
DTSTART;TZID=America/Chicago:20250602T090000
DTEND;TZID=America/Chicago:20250901T160000
DTSTAMP:20260421T190044
CREATED:20250613T210507Z
LAST-MODIFIED:20250613T233137Z
UID:2223-1748854800-1756742400@emgeeem.com
SUMMARY:Exhibit: Commerce\, Connection & Culture
DESCRIPTION:Commerce\, Connection\, and Culture\, aims to honor and amplify the story of the River Region Indigenous people in recorded history\, fostering a greater appreciation of the era\, the landscape\, the individuals\, and their roles in our region’s history. \nThrough this and every exhibit\, we aim to ignite interest in Montgomery’s history and encourage the exploration of local historical sites and attractio
URL:https://emgeeem.com/event/exhibit-commerce-connection-culture/
LOCATION:Montgomery County Historical Society\, 512 S Court St\, MONTGOMERY\, AL\, 36104\, United States
END:VEVENT
BEGIN:VEVENT
DTSTART;VALUE=DATE:20250727
DTEND;VALUE=DATE:20250915
DTSTAMP:20260421T190044
CREATED:20250821T235509Z
LAST-MODIFIED:20250821T235509Z
UID:2692-1753574400-1757894399@emgeeem.com
SUMMARY:Side Quests Art Exhibit
DESCRIPTION:Winfred Hawkins started drawing at an early age. He developed his drafting skills by watching his father and copying animals from nature books. “I was basically a copying machine. I would draw just about anything you put in front of me.” \nWhile in high school\, he was commissioned by the Troy University Rosa Parks Museum in Montgomery\, Alabama to design 10 bronze roundels for the outside of the museum. He completed the project after graduating from Savannah College of Art and Design. Winfred has been working as a graphic designer since 2007. \nAfter suffering from a nerve injury in 2012\, affecting both arms\, he has considerably changed his style to incorporate the use of both hands. Winfred mostly uses his non-dominant\, right hand\, for sketching\, but sometimes paints an entire work. The left hand he reserves for work that is more involved\, in style\, as well as subject matter. With this technique\, Winfred creates original characters\, incorporating them into his own unique mythology and art style.
URL:https://emgeeem.com/event/side-quests-art-exhibit/
LOCATION:Montgomery Museum of Fine Arts\, 1 Museum Dr\, Montgomery\, AL\, 36117\, United States
END:VEVENT
BEGIN:VEVENT
DTSTART;TZID=America/Chicago:20250823T100000
DTEND;TZID=America/Chicago:20250823T120000
DTSTAMP:20260421T190044
CREATED:20250821T235413Z
LAST-MODIFIED:20250821T235413Z
UID:2698-1755943200-1755950400@emgeeem.com
SUMMARY:Magical Creatures
DESCRIPTION:Meet some of the magical animals that are featured in the movies like Harry Potter and The Hobbit. You will get a chance to meet these animals up close\, learn about them in their habitats\, and take home some special prizes for yourself. \nMagical Creatures is a combination of fun-filled and insightful educational program packed with: \n\na classroom lesson plan\nmaking a little magic\nlive animal presentations\, and\neveryone leaves with a take-home\, keepsake goody bag.\n\n\nEvent fee: RESERVE YOUR SPOT TODAY!!\n— Montgomery Zoo member: Accompanying adults*: FREE\, Children (4-12 years old): $21\n— Non-Zoo member: Accompanying adults*: $19\, Children (4-12 years old): $35\n     — Advanced reservations required. All participants must be registered no later than Friday\, August 22 @ 12pm (noon). This allows the opportunity to prepare for the proper number of participants.  Thank you for your cooperation. NO TICKETS WILL BE SOLD AT THE DOOR ON THE DAY OF THE EVENT!  \n* Important note for accompanying adults.\nAll child participant(s) must have at least one accompanying adult with them.\nAll accompanying adults must also register when making reservation for child participant(s). \n——————————— \nFor additional information concerning Magical Creatures\, please contact our Education Department at \n\n(334) 625-4909 or\nemail at zooinfo@montgomeryal.gov\n\nAdvanced reservations are required.  
URL:https://emgeeem.com/event/magical-creatures/
LOCATION:Montgomery Zoo & Mann Museum\, 2301 Coliseum Parkway\, Montgomery\, AL\, 36110\, United States
END:VEVENT
BEGIN:VEVENT
DTSTART;TZID=America/Chicago:20250823T120000
DTEND;TZID=America/Chicago:20250823T160000
DTSTAMP:20260421T190044
CREATED:20250821T235255Z
LAST-MODIFIED:20250821T235255Z
UID:2696-1755950400-1755964800@emgeeem.com
SUMMARY:Local Authors Day
DESCRIPTION:The event showcases the amazing writing talent in our greater metro Montgomery region. Meet authors writing fiction\, nonfiction\, children’s books\, self-help and inspirational titles\, and more. It’ll be festive and fun!
URL:https://emgeeem.com/event/local-authors-day/
LOCATION:The NewSouth Bookstore\, 105 S. Court Street\, MONTGOMERY\, AL\, 36104\, United States
END:VEVENT
BEGIN:VEVENT
DTSTART;TZID=America/Chicago:20250823T134500
DTEND;TZID=America/Chicago:20250823T230000
DTSTAMP:20260421T190044
CREATED:20250821T235200Z
LAST-MODIFIED:20250821T235200Z
UID:2694-1755956700-1755990000@emgeeem.com
SUMMARY:Hog Days of Summer
DESCRIPTION:The Druids Charity Club is pleased to announce the 8th annual BBQ and Americana Music festival! The Hog Days of Summer is a charity event benefitting Hogs for the Cause and other carefully selected local charities.\n Music Lineup:Our best lineup yet will be rocking the shed; spanning blues\, rock\, soul\, country\, roots\, and other Americana influences.\nBrent CobbNeal FrancisThe Soul RebelsKanika Moore and the Brown Eyed BoisBlues Old Stand\nBBQ:Once again\, our patrons can look forward to enjoying BBQ from the River Region’s finest BBQ establishments. More information to come soon.\nSchedule:Doors: 1:45 PM.BBQ: upon entry.Music: 2:00 PM-9:00 PM\nTickets:General Admission: $20\nActive Military/Police/Fire/EMS/Student GA Ticket**: $10\nVIP Ticket: $250. Very limited supply.Private Discounted Cash bar\,Private bathroomsPrivate SeatingSide of stage viewsFood options available
URL:https://emgeeem.com/event/hog-days-of-summer/
LOCATION:Union Station Train Shed\, 300 Water St\, Montgomery\, AL\, 36104\, United States
END:VEVENT
BEGIN:VEVENT
DTSTART;TZID=America/Chicago:20250823T180000
DTEND;TZID=America/Chicago:20250823T180000
DTSTAMP:20260421T190044
CREATED:20250821T234712Z
LAST-MODIFIED:20250821T234727Z
UID:2695-1755972000-1755972000@emgeeem.com
SUMMARY:FCS Kick-Off
DESCRIPTION:The 11th FCS Kickoff\, featuring UC – Davis and Mercer\, will be shown on ESPN. \nThe FCS Kickoff dates back to the 2014 season. The first three games were played at campus sites. ESPN Events then brought the game to Montgomery in 2017. This is the eighth FCS Kickoff played at the Historic Cramton Bowl. \n  \nMercer will be making its second appearance. UC – Davis is making its debut in the event and will be the 17th different team to play in the FCS Kickoff. \n  \nAll seats are General Admission. \n  \nMercer – East Side – Sections N-S \nUC – Davis – Press Box Side – Sections A-G
URL:https://emgeeem.com/event/fcs-kick-off/
LOCATION:Multiplex at Cramton Bowl\, 220 Hall St\, MONTGOMERY\, AL\, 36104\, United States
END:VEVENT
BEGIN:VEVENT
DTSTART;TZID=America/Chicago:20250823T180000
DTEND;TZID=America/Chicago:20250823T180000
DTSTAMP:20260421T190044
CREATED:20250821T234910Z
LAST-MODIFIED:20250821T234910Z
UID:2697-1755972000-1755972000@emgeeem.com
SUMMARY:Saturday of Speed 125
DESCRIPTION:The summer heats up with the Saturday of Speed 125! This event brings a thrilling Pro Late Model 125-lap showdown\, a 40-lap Black Sheep Woodlands Late Model Sportsman race\, plus 72 laps of action from Shelby Concrete Street Stocks to celebrate 72 years of racing at Montgomery Motor Speedway! It’s a night of nonstop racing that you do not want to miss!
URL:https://emgeeem.com/event/saturday-of-speed-125/
LOCATION:Montgomery Motor Speedway\, 480 Booth Rd\, Montgomery\, AL\, 36104\, United States
ORGANIZER;CN="Montgomery Motor Speedway":MAILTO:gm@montgomerymotorspeedway.com
END:VEVENT
END:VCALENDAR