BEGIN:VCALENDAR
VERSION:2.0
PRODID:-//Em Gee Em - ECPv6.15.14//NONSGML v1.0//EN
CALSCALE:GREGORIAN
METHOD:PUBLISH
X-WR-CALNAME:Em Gee Em
X-ORIGINAL-URL:https://emgeeem.com
X-WR-CALDESC:Events for Em Gee Em
REFRESH-INTERVAL;VALUE=DURATION:PT1H
X-Robots-Tag:noindex
X-PUBLISHED-TTL:PT1H
BEGIN:VTIMEZONE
TZID:America/Chicago
BEGIN:DAYLIGHT
TZOFFSETFROM:-0600
TZOFFSETTO:-0500
TZNAME:CDT
DTSTART:20240310T080000
END:DAYLIGHT
BEGIN:STANDARD
TZOFFSETFROM:-0500
TZOFFSETTO:-0600
TZNAME:CST
DTSTART:20241103T070000
END:STANDARD
BEGIN:DAYLIGHT
TZOFFSETFROM:-0600
TZOFFSETTO:-0500
TZNAME:CDT
DTSTART:20250309T080000
END:DAYLIGHT
BEGIN:STANDARD
TZOFFSETFROM:-0500
TZOFFSETTO:-0600
TZNAME:CST
DTSTART:20251102T070000
END:STANDARD
BEGIN:DAYLIGHT
TZOFFSETFROM:-0600
TZOFFSETTO:-0500
TZNAME:CDT
DTSTART:20260308T080000
END:DAYLIGHT
BEGIN:STANDARD
TZOFFSETFROM:-0500
TZOFFSETTO:-0600
TZNAME:CST
DTSTART:20261101T070000
END:STANDARD
END:VTIMEZONE
BEGIN:VEVENT
DTSTART;TZID=America/Chicago:20250602T090000
DTEND;TZID=America/Chicago:20250901T160000
DTSTAMP:20260421T204543
CREATED:20250613T210507Z
LAST-MODIFIED:20250613T233137Z
UID:2223-1748854800-1756742400@emgeeem.com
SUMMARY:Exhibit: Commerce\, Connection & Culture
DESCRIPTION:Commerce\, Connection\, and Culture\, aims to honor and amplify the story of the River Region Indigenous people in recorded history\, fostering a greater appreciation of the era\, the landscape\, the individuals\, and their roles in our region’s history. \nThrough this and every exhibit\, we aim to ignite interest in Montgomery’s history and encourage the exploration of local historical sites and attractio
URL:https://emgeeem.com/event/exhibit-commerce-connection-culture/
LOCATION:Montgomery County Historical Society\, 512 S Court St\, MONTGOMERY\, AL\, 36104\, United States
END:VEVENT
BEGIN:VEVENT
DTSTART;TZID=America/Chicago:20250709T000000
DTEND;TZID=America/Chicago:20250817T000000
DTSTAMP:20260421T204543
CREATED:20250613T210600Z
LAST-MODIFIED:20250613T234326Z
UID:2228-1752019200-1755388800@emgeeem.com
SUMMARY:The Wizard of Oz
DESCRIPTION:The wizard of oz\nJuly 9–August 17\, 2025\nMusic and Lyrics by Harold Arlen and E. Y. Harburg | Background Music by Herbert Stothart\nFestival Stage | Recommended Ages 5+\nFollow the yellow brick road in this delightful stage adaptation of L. Frank Baum’s beloved tale\, featuring the iconic musical score from the MGM film. The timeless tale\, in which young Dorothy Gale travels from Kansas over the rainbow to the magical Land of Oz\, is a thrill for audiences of all ages. \n 
URL:https://emgeeem.com/event/the-wizard-of-oz/
LOCATION:Alabama Shakespeare Festival\, 1 Festival Dr\, MONTGOMERY\, AL\, 36117\, United States
END:VEVENT
BEGIN:VEVENT
DTSTART;TZID=America/Chicago:20250718T000000
DTEND;TZID=America/Chicago:20250720T000000
DTSTAMP:20260421T204543
CREATED:20250613T205927Z
LAST-MODIFIED:20250613T233743Z
UID:2205-1752796800-1752969600@emgeeem.com
SUMMARY:Ink Masters Tattoo Tour 2025
DESCRIPTION:Tattoo artists and piercers will be on hand all weekend doing live “on-the-spot” tattoos and piercings! With all of our different tattoo artists and vendors\, the Ink Masters Tattoo Show has the best of BOTH worlds! No matter what style or how big or small you want to go\, we have the right artist for you. If you’ve been to any of our expos\, you know we have the artists to take care of your tattoo needs!\nNot to mention\, our attendees can sign up to be entered into our FREE TATTOO GIVE AWAY! Each day (Friday\, Saturday\, and Sunday) we will have a FREE TATTOO GIVE AWAY RAFFLE! Completely free to the attendee! Sign ups start at noon each day and winners will be called at 4pm and 6pm (Sunday’s at 3pm and 5pm)! Must be present to win!\nAges 16 & under are free to enter WITH A PARENT.\n​\nMust be 18 and over with a valid Government Issued ID for Tattoo Services or Raffle.\nExpo entry fees are per day or you can purchase a discounted weekend pass. More Information COMING SOON!!!\nDO NOT believe comments on posts for VENDORS or ANY other agent approving authorities for this event. We do not employee individuals to represent our facility. If you have questions please contact Garrett Coliseum 334-356-6866.
URL:https://emgeeem.com/event/ink-masters-tattoo-tour-2025/
LOCATION:Garret Coliseum\, 1555 Federal Drive\, MONTGOMERY\, AL\, 36107\, United States
END:VEVENT
BEGIN:VEVENT
DTSTART;TZID=America/Chicago:20250718T190000
DTEND;TZID=America/Chicago:20250718T190000
DTSTAMP:20260421T204543
CREATED:20250614T001216Z
LAST-MODIFIED:20250614T001216Z
UID:2396-1752865200-1752865200@emgeeem.com
SUMMARY:Karaoke
DESCRIPTION:
URL:https://emgeeem.com/event/karaoke-5/
LOCATION:Hilltop Public House\, 3 North Goldthwaite Street\, MONTGOMERY\, AL\, 36104\, United States
END:VEVENT
END:VCALENDAR