BEGIN:VCALENDAR
VERSION:2.0
PRODID:-//Em Gee Em - ECPv6.15.14//NONSGML v1.0//EN
CALSCALE:GREGORIAN
METHOD:PUBLISH
X-ORIGINAL-URL:https://emgeeem.com
X-WR-CALDESC:Events for Em Gee Em
REFRESH-INTERVAL;VALUE=DURATION:PT1H
X-Robots-Tag:noindex
X-PUBLISHED-TTL:PT1H
BEGIN:VTIMEZONE
TZID:America/Chicago
BEGIN:DAYLIGHT
TZOFFSETFROM:-0600
TZOFFSETTO:-0500
TZNAME:CDT
DTSTART:20240310T080000
END:DAYLIGHT
BEGIN:STANDARD
TZOFFSETFROM:-0500
TZOFFSETTO:-0600
TZNAME:CST
DTSTART:20241103T070000
END:STANDARD
BEGIN:DAYLIGHT
TZOFFSETFROM:-0600
TZOFFSETTO:-0500
TZNAME:CDT
DTSTART:20250309T080000
END:DAYLIGHT
BEGIN:STANDARD
TZOFFSETFROM:-0500
TZOFFSETTO:-0600
TZNAME:CST
DTSTART:20251102T070000
END:STANDARD
BEGIN:DAYLIGHT
TZOFFSETFROM:-0600
TZOFFSETTO:-0500
TZNAME:CDT
DTSTART:20260308T080000
END:DAYLIGHT
BEGIN:STANDARD
TZOFFSETFROM:-0500
TZOFFSETTO:-0600
TZNAME:CST
DTSTART:20261101T070000
END:STANDARD
END:VTIMEZONE
BEGIN:VEVENT
DTSTART;VALUE=DATE:20250401
DTEND;VALUE=DATE:20250602
DTSTAMP:20260422T013142
CREATED:20250308T175616Z
LAST-MODIFIED:20250308T180603Z
UID:180-1743465600-1748822399@emgeeem.com
SUMMARY:The Power of Community: A Southern Story
DESCRIPTION:The Power of Community: A Southern Story is a compelling art exhibition that delves into the deep-rooted traditions\, resilience\, and cultural richness of Southern communities. Showcasing a diverse collection of works—including paintings\, photography\, and multimedia. \nThe exhibition highlights the unique narratives\, shared histories\, and collective spirit that define the South. Through themes of heritage\, storytelling\, activism\, and togetherness\, The Power of Community exhibit celebrates the strength found in unity and the enduring influence of Southern culture on art\, resistance\, and social change.
URL:https://emgeeem.com/event/the-power-of-community-a-southern-story/
LOCATION:gallery @ one court\, 1 Court Square\, MONTGOMERY\, AL\, 36107\, United States
END:VEVENT
BEGIN:VEVENT
DTSTART;TZID=America/Chicago:20250516T160000
DTEND;TZID=America/Chicago:20250518T230000
DTSTAMP:20260422T013142
CREATED:20250424T000559Z
LAST-MODIFIED:20250424T000559Z
UID:1845-1747411200-1747609200@emgeeem.com
SUMMARY:3rd Annual Red Bluff Music\, Arts and Food Festival
DESCRIPTION:Red Bluff Music\, Arts and Food Festival is thrilled to announce its unforgettable weekend of live music\, creative arts\, and culinary delights from May 16-18 at Riverfront Park in downtown Montgomery. This year’s festival will showcase an exciting array of musical talent including Mononeon\, Eggy\, Clay Street Unit\, DJ Logic (x3)\, Buffalo Nichols\, Boukou Groove\, Winston Ramble\, Little Raine Band\, Electric Blue Yonder\, The Major Dudes (Steely Dan Tribute)\, and Blues Old Stand. Each year\, the festival attracts renowned musical talents while highlighting local and regional bands\, along with visual and culinary artists\, creating a dynamic cultural celebration for all. \nThe festivities kick off on Friday night at Red Bluff Bar with a free show open to the public\, followed by dynamic performances at the Riverwalk Amphitheater on Saturday and Sunday. With single-day ($50)\, two-day ($80)\, and VIP ($200) ticket options available now at RedBluffFest.com\, fans can secure their spot at one of the year’s most anticipated events. \nIn addition to an electrifying musical and artistic experience\, Red Bluff Music\, Arts and Food Festival is now offering sponsorship as well as artist and craft vending opportunities. Local businesses and other brands have the chance to engage with a passionate audience and become a vital part of the festival’s success.
URL:https://emgeeem.com/event/3rd-annual-red-bluff-music-arts-and-food-festival/
LOCATION:Riverfront Park\, 355 Commerce St\, Montgomery\, 36106\, United States
ATTACH;FMTTYPE=image/png:https://emgeeem.com/wp-content/uploads/2025/04/RedBluff2025Square_BANDS_INFO2.png
ORGANIZER;CN="Vintage Hospitality Group":MAILTO:jud@vintagehg.com
END:VEVENT
BEGIN:VEVENT
DTSTART;TZID=America/Chicago:20250517T070000
DTEND;TZID=America/Chicago:20250517T080000
DTSTAMP:20260422T013142
CREATED:20250506T022502Z
LAST-MODIFIED:20250510T185717Z
UID:1891-1747465200-1747468800@emgeeem.com
SUMMARY:Together We Run - Initial Meet Up at Prevail Union
DESCRIPTION:Kick off for Prevail’s new run club – Together We Run. \nAll skill levels are welcome and runners will also get to enjoy 10% off cold brew\, drip coffee\, and breakfast items. \nScan the code to join!
URL:https://emgeeem.com/event/together-we-run-initial-meet-up-at-prevail-union/
LOCATION:Prevail Union\, 39 Dexter Ave Suite 102
END:VEVENT
BEGIN:VEVENT
DTSTART;TZID=America/Chicago:20250517T110000
DTEND;TZID=America/Chicago:20250517T170000
DTSTAMP:20260422T013142
CREATED:20250517T163116Z
LAST-MODIFIED:20250517T163116Z
UID:1992-1747479600-1747501200@emgeeem.com
SUMMARY:2nd Annual Food & Grooves Mayfest
DESCRIPTION:The 2nd Annual Food & Grooves Mayfest is coming back this year in full force! This event is family and dog friendly and will involve food trucks\, live entertainment\, vendors and more! The City of Montgomery Parks and Recreation Department has been working hard to bring this super fun event back and we cannot wait to see you there!\nThis FREE event takes place at the Rotary Dog Park on Coosa St. Bring a lawn chair and plan to hang out for the day!
URL:https://emgeeem.com/event/2nd-annual-food-grooves-mayfest/
LOCATION:Rotary Dog Park\, 98 Coosa St\, Montgomery\, 36104
END:VEVENT
END:VCALENDAR