BEGIN:VCALENDAR
VERSION:2.0
PRODID:-//Em Gee Em - ECPv6.15.14//NONSGML v1.0//EN
CALSCALE:GREGORIAN
METHOD:PUBLISH
X-ORIGINAL-URL:https://emgeeem.com
X-WR-CALDESC:Events for Em Gee Em
REFRESH-INTERVAL;VALUE=DURATION:PT1H
X-Robots-Tag:noindex
X-PUBLISHED-TTL:PT1H
BEGIN:VTIMEZONE
TZID:America/Chicago
BEGIN:DAYLIGHT
TZOFFSETFROM:-0600
TZOFFSETTO:-0500
TZNAME:CDT
DTSTART:20240310T080000
END:DAYLIGHT
BEGIN:STANDARD
TZOFFSETFROM:-0500
TZOFFSETTO:-0600
TZNAME:CST
DTSTART:20241103T070000
END:STANDARD
BEGIN:DAYLIGHT
TZOFFSETFROM:-0600
TZOFFSETTO:-0500
TZNAME:CDT
DTSTART:20250309T080000
END:DAYLIGHT
BEGIN:STANDARD
TZOFFSETFROM:-0500
TZOFFSETTO:-0600
TZNAME:CST
DTSTART:20251102T070000
END:STANDARD
BEGIN:DAYLIGHT
TZOFFSETFROM:-0600
TZOFFSETTO:-0500
TZNAME:CDT
DTSTART:20260308T080000
END:DAYLIGHT
BEGIN:STANDARD
TZOFFSETFROM:-0500
TZOFFSETTO:-0600
TZNAME:CST
DTSTART:20261101T070000
END:STANDARD
END:VTIMEZONE
BEGIN:VEVENT
DTSTART;VALUE=DATE:20250401
DTEND;VALUE=DATE:20250602
DTSTAMP:20260422T013202
CREATED:20250308T175616Z
LAST-MODIFIED:20250308T180603Z
UID:180-1743465600-1748822399@emgeeem.com
SUMMARY:The Power of Community: A Southern Story
DESCRIPTION:The Power of Community: A Southern Story is a compelling art exhibition that delves into the deep-rooted traditions\, resilience\, and cultural richness of Southern communities. Showcasing a diverse collection of works—including paintings\, photography\, and multimedia. \nThe exhibition highlights the unique narratives\, shared histories\, and collective spirit that define the South. Through themes of heritage\, storytelling\, activism\, and togetherness\, The Power of Community exhibit celebrates the strength found in unity and the enduring influence of Southern culture on art\, resistance\, and social change.
URL:https://emgeeem.com/event/the-power-of-community-a-southern-story/
LOCATION:gallery @ one court\, 1 Court Square\, MONTGOMERY\, AL\, 36107\, United States
END:VEVENT
BEGIN:VEVENT
DTSTART;TZID=America/Chicago:20250426T080000
DTEND;TZID=America/Chicago:20250426T103000
DTSTAMP:20260422T013202
CREATED:20250419T052647Z
LAST-MODIFIED:20250419T195514Z
UID:1800-1745654400-1745663400@emgeeem.com
SUMMARY:The Grove MGM 5K Fun Run/Walk and Open House
DESCRIPTION:Join us to welcome The Grove MGM to the Montgomery community! The Grove supports young women transitioning out of Foster Care in Alabama.\nThey provide dignified\, affordable housing and support to bridge the gap between the foster care system and independence. Your participation and/or donation contributes to the final phase of renovation of the building and goes towards sponsoring the future young women who will call The Grove their home. You can visit thegrovemgm.org for more information. \n  \nOn Saturday\, 26 April 2025 we will have a fun run/walk starting and ending at The Grove MGM at 559 S Hull. The 5K will begin at 8AM\, but please arrive by 730AM to get pumped up for the fun!! The run/walk will take runners and walkers through the historic streets of downtown Montgomery. Along the course\, you will see the Alabama State Capitol building\, the Rosa Parks Bus Stop and Court Square Fountain\, the Rosa Parks Museum and the Davis Theater\, The National Memorial for Peace and Justice\, and The Mothers of Gynecology Park. \n  \nAfter completing the 5K\, stay and fellowship with other members of your community in the Grove’s lovely outdoor gathering area\, and take a tour of the newly renovated\, beautifully-designed future home of young women who have aged out of the foster care program in our community. \nWe will have coffee\, snacks\, and a food truck. Bring the family for this meaningful day of restoration. \nAll participants can take home with them a special token of appreciation saying “I ran for the Grove”! \n  \nThe first 3 finishers of the following categories will receive special recognition: \nChildren aged 0-14 Male and Female \nAdults aged 15-99 Male and Female
URL:https://emgeeem.com/event/the-grove-mgm-5k-fun-run-walk-and-open-house/
LOCATION:The Grove MGM\, 559 S Hull St\, MONTGOMERY\, AL\, 36104\, United States
END:VEVENT
BEGIN:VEVENT
DTSTART;TZID=America/Chicago:20250426T080000
DTEND;TZID=America/Chicago:20250426T150000
DTSTAMP:20260422T013202
CREATED:20250419T053911Z
LAST-MODIFIED:20250419T194955Z
UID:1812-1745654400-1745679600@emgeeem.com
SUMMARY:Herb Day & Earth Day Celebration
DESCRIPTION:Come stroll thru the pecan trees and feast your eyes on the many handcrafted items from vendors all over.  We will celebrate Earth Day and all the wonderful herbs for both medicinal and culinary excitement.  There will music\, food and fun for all. Family friendly events.  Dogs on leashes are welcome but please be mindful of their manners. \n  \n \n\nEarth Day Celebration\nHerb of the Year: Chamomile\nSaturday\, April 26th 8:00 a.m. – 3:00 p.m.\nPlant & Craft Vendors\nMedicinal Herbs\nExpert Gardeners\nGrowing Tips\nCulinary Presentation by Carolyn Strickland\nAdmission Free\nOn the grounds of Grace Presbyterian Church\n5 Bell Road & Atlanta Highway\, Montgomery\, AL\nwebsite: www.AlabamaHerbSociety.org\nemail: info@alabamaherbsociety.org\nFacebook: @Alabama Herb Society
URL:https://emgeeem.com/event/herb-day-earth-day-celebration-2/
LOCATION:Grace Presbyterian Church\, 5 Bell Rd\, MONTGOMERY\, AL\, 36117\, United States
ORGANIZER;CN="Alabama Herb Society":MAILTO:info@alabamaherbsociety.org
END:VEVENT
BEGIN:VEVENT
DTSTART;TZID=America/Chicago:20250426T110000
DTEND;TZID=America/Chicago:20250426T160000
DTSTAMP:20260422T013202
CREATED:20250419T060056Z
LAST-MODIFIED:20250419T195415Z
UID:1821-1745665200-1745683200@emgeeem.com
SUMMARY:Hyperbole Books Grand Opening Pop Up
DESCRIPTION:Saturday\, April 26\, 2025 is Independent Bookstore Day and what better way to celebrate than with the FIRST EVER pop-up shop for Hyperbole Books! \nCome see me from 11-4 at Southern Art and Makers Collective and celebrate the GRAND OPENING of Hyperbole Books! While you’re at it\, head inside and grab some local art from Southern Art and Makers Collective!
URL:https://emgeeem.com/event/hyperbole-books-grand-opening-pop-up/
LOCATION:Southern Art & Makers Collective\, 1228 Madison Ave\, MONTGOMERY\, AL\, 36107\, United States
END:VEVENT
BEGIN:VEVENT
DTSTART;TZID=America/Chicago:20250426T173000
DTEND;TZID=America/Chicago:20250426T213000
DTSTAMP:20260422T013202
CREATED:20250419T045630Z
LAST-MODIFIED:20250419T195733Z
UID:1762-1745688600-1745703000@emgeeem.com
SUMMARY:Tango Under the Stars
DESCRIPTION:Free Dancing Event \nRefreshments &  Food Provided
URL:https://emgeeem.com/event/tango-under-the-stars/
LOCATION:The Learning Arts Center at The Armory\, 1018 Madison Avenue\, MONTGOMERY\, AL\, 36107\, United States
ORGANIZER;CN="The Learning Arts Center at The Armory":MAILTO:joebirdwell@gmail.com
END:VEVENT
BEGIN:VEVENT
DTSTART;TZID=America/Chicago:20250426T193000
DTEND;TZID=America/Chicago:20250426T223000
DTSTAMP:20260422T013202
CREATED:20250419T055717Z
LAST-MODIFIED:20250419T195458Z
UID:1815-1745695800-1745706600@emgeeem.com
SUMMARY:Montgomery SERA Rodeo
DESCRIPTION:*Venue site had this event listed as The Montgomery Black Rodeo on the 27th of April\, This digital Listing is updated from our Print Edition*
URL:https://emgeeem.com/event/montgomery-sera-rodeo/
LOCATION:Garret Coliseum\, 1555 Federal Drive\, MONTGOMERY\, AL\, 36107\, United States
END:VEVENT
END:VCALENDAR